BEGIN:VCALENDAR
PRODID:NingEventWidget-v1
VERSION:2.0
METHOD:PUBLISH
BEGIN:VTIMEZONE
TZID:Europe/Athens
X-LIC-LOCATION:Europe/Athens
BEGIN:DAYLIGHT
TZOFFSETFROM:+0200
TZOFFSETTO:+0300
TZNAME:EEST
DTSTART:19700329T030000
RRULE:FREQ=YEARLY;BYMONTH=3;BYDAY=-1SU
END:DAYLIGHT
BEGIN:STANDARD
TZOFFSETFROM:+0300
TZOFFSETTO:+0200
TZNAME:EET
DTSTART:19701025T040000
RRULE:FREQ=YEARLY;BYMONTH=10;BYDAY=-1SU
END:STANDARD
END:VTIMEZONE
BEGIN:VEVENT
UID:1982923:Event:175009
DTSTAMP:20260421T163652Z
SUMMARY:Blue Flames live
DESCRIPTION:http://www.facebook.com/events/173714012783038/?notif_t=pl
 an_user_joined\n\nFor more information visit https://blues.gr/events/b
 lue-flames-live-3
DTSTART;TZID=Europe/Athens:20130416T220000
DTEND;TZID=Europe/Athens:20130417T020000
CATEGORIES:live
LOCATION:Silver Dollar
WEBSITE:http://www.facebook.com/SilverDollarMusicBar
URL:http://www.facebook.com/SilverDollarMusicBar
CONTACT:
ORGANIZER;CN="Johnny B.":https://blues.gr/profile/JohnnyB
ATTACH;FMTTYPE="image/jpeg":http://storage.ning.com/topology/rest/1.0/
 file/get/2253004319?profile=original
ATTENDEE;ROLE=REQ-PARTICIPANT;PARTSTAT=ACCEPTED;RSVP=TRUE;CN="Johnny B
 .":https://blues.gr/profile/JohnnyB
END:VEVENT
END:VCALENDAR
