BEGIN:VCALENDAR
PRODID:NingEventWidget-v1
VERSION:2.0
METHOD:PUBLISH
BEGIN:VTIMEZONE
TZID:Europe/Athens
X-LIC-LOCATION:Europe/Athens
BEGIN:DAYLIGHT
TZOFFSETFROM:+0200
TZOFFSETTO:+0300
TZNAME:EEST
DTSTART:19700329T030000
RRULE:FREQ=YEARLY;BYMONTH=3;BYDAY=-1SU
END:DAYLIGHT
BEGIN:STANDARD
TZOFFSETFROM:+0300
TZOFFSETTO:+0200
TZNAME:EET
DTSTART:19701025T040000
RRULE:FREQ=YEARLY;BYMONTH=10;BYDAY=-1SU
END:STANDARD
END:VTIMEZONE
BEGIN:VEVENT
UID:1982923:Event:201976
DTSTAMP:20260423T103619Z
SUMMARY:BLUE FLAMES LIVE IN ATHENS
DESCRIPTION:To ROUTE 32 Rock'n'blues παρουσιάζει το Σα
 βάτο 26 Απριλίου τους Blue Flames ! Ώρα έναρξ
 ης 22:00 . Είσοδος δωρεάν.\n\nFor more information visi
 t https://blues.gr/events/blue-flames-live-in-athens
DTSTART;TZID=Europe/Athens:20140426T000000
DTEND;TZID=Europe/Athens:20140426T235900
CATEGORIES:live
LOCATION:ROUTE 32 Rock'n'blues
WEBSITE:https://www.google.com/maps/place/%CE%A0%CE%AC%CF%81%CE%BF%CE%
 B4%CE%BF%CF%82+%CE%9B%CE%B5%CF%89%CF%86%CF%8C%CF%81%CE%BF%CF%85+%CE%92
 %CE%BF%CF%85%CE%BB%CE%B9%CE%B1%CE%B3%CE%BC%CE%AD%CE%BD%CE%B7%CF%82+32/
 @37.9045236,23.746063,18z/data=!4m2!3m1!1s0x14a1be0ead429f57:0x34e0f3a
 e0e9b75b1
URL:https://www.google.com/maps/place/%CE%A0%CE%AC%CF%81%CE%BF%CE%B4%C
 E%BF%CF%82+%CE%9B%CE%B5%CF%89%CF%86%CF%8C%CF%81%CE%BF%CF%85+%CE%92%CE%
 BF%CF%85%CE%BB%CE%B9%CE%B1%CE%B3%CE%BC%CE%AD%CE%BD%CE%B7%CF%82+32/@37.
 9045236,23.746063,18z/data=!4m2!3m1!1s0x14a1be0ead429f57:0x34e0f3ae0e9
 b75b1
CONTACT:
ORGANIZER;CN="Johnny B.":https://blues.gr/profile/JohnnyB
ATTACH;FMTTYPE="image/jpeg":http://storage.ning.com/topology/rest/1.0/
 file/get/2253021044?profile=original
ATTENDEE;ROLE=REQ-PARTICIPANT;PARTSTAT=ACCEPTED;RSVP=TRUE;CN="Giannis 
 Pachidis":https://blues.gr/profile/ioannis
ATTENDEE;ROLE=REQ-PARTICIPANT;PARTSTAT=ACCEPTED;RSVP=TRUE;CN="Johnny B
 .":https://blues.gr/profile/JohnnyB
END:VEVENT
END:VCALENDAR
