BEGIN:VCALENDAR
PRODID:NingEventWidget-v1
VERSION:2.0
METHOD:PUBLISH
BEGIN:VTIMEZONE
TZID:Europe/Athens
X-LIC-LOCATION:Europe/Athens
BEGIN:DAYLIGHT
TZOFFSETFROM:+0200
TZOFFSETTO:+0300
TZNAME:EEST
DTSTART:19700329T030000
RRULE:FREQ=YEARLY;BYMONTH=3;BYDAY=-1SU
END:DAYLIGHT
BEGIN:STANDARD
TZOFFSETFROM:+0300
TZOFFSETTO:+0200
TZNAME:EET
DTSTART:19701025T040000
RRULE:FREQ=YEARLY;BYMONTH=10;BYDAY=-1SU
END:STANDARD
END:VTIMEZONE
BEGIN:VEVENT
UID:1982923:Event:58049
DTSTAMP:20260424T061826Z
SUMMARY:Blue Note Support Live at NObar thessaloniki
DESCRIPTION:Όπως λέει και ο τίτλος κάνουμε su
 pport στους Sonitus Noctis αυτήν την παρασκευή 
 το NoBar.Θα παίξουμε μια ώρα με ρεπερτόρ
 ο από blues rock και blues(led zeppelin,jimi hendrix,cream,ror
 y gallagher,zz top,buddy guy,robert johnson,freddie king,SRV,κλπ.)B
 e there!\n\nFor more information visit https://blues.gr/events/blue-no
 te-support-live-at
DTSTART;TZID=Europe/Athens:20100604T213000
DTEND;TZID=Europe/Athens:20100604T230000
CATEGORIES:live
LOCATION:Thessaloniki
WEBSITE:
URL:
CONTACT:
ORGANIZER;CN="Nick Makris":https://blues.gr/profile/NickMakris
ATTACH;FMTTYPE="image/jpeg":
ATTENDEE;ROLE=REQ-PARTICIPANT;PARTSTAT=ACCEPTED;RSVP=TRUE;CN="Nick Mak
 ris":https://blues.gr/profile/NickMakris
END:VEVENT
END:VCALENDAR
