BEGIN:VCALENDAR
PRODID:NingEventWidget-v1
VERSION:2.0
METHOD:PUBLISH
BEGIN:VTIMEZONE
TZID:Europe/Athens
X-LIC-LOCATION:Europe/Athens
BEGIN:DAYLIGHT
TZOFFSETFROM:+0200
TZOFFSETTO:+0300
TZNAME:EEST
DTSTART:19700329T030000
RRULE:FREQ=YEARLY;BYMONTH=3;BYDAY=-1SU
END:DAYLIGHT
BEGIN:STANDARD
TZOFFSETFROM:+0300
TZOFFSETTO:+0200
TZNAME:EET
DTSTART:19701025T040000
RRULE:FREQ=YEARLY;BYMONTH=10;BYDAY=-1SU
END:STANDARD
END:VTIMEZONE
BEGIN:VEVENT
UID:1982923:Event:493374
DTSTAMP:20260425T032802Z
SUMMARY:Blues Alive 2025 - Czech
DESCRIPTION:The 29th edition of Blues Alive, Central Europe’s larg
 est blues festival, will take place November 14–16, 2025, in Šumpe
 rk, Czech Republic. \r\nThis year’s lineup features Walter Trout, 
 Joanna Connor, GA-20, Selwyn Birchwood, Mark Hummel Band feat. Anson F
 underburgh, Jerron Paxton, Sean “Mack” McDonald, Cinelli Brothers
 and many more amazing musicians, alongside fresh international discov
 eries. The festival is also renowned for its late-night jam sessions, 
 where local musicians join legends on stage.\r\n\r\nŠumperk hosts the
  permanent Blues Alive Hall of Fame, archiving rare recordings, TV fe
 atures, collection of instruments signed by international stars, and f
 estival history - allowing visitors to explore the music outside showt
 imes. Blues Alive offers a cozy, all-indoor, intimate experience in a 
 compact historic town - ideal for uninterrupted listening and easy art
 ist access.\r\nThe festival is renowned for its late-night jam session
 s, where local musicians join legends on stage - one of the tradition
 s that makes Blues Alive truly unique.\r\nGetting there\r\nŠumperk is
  easily accessible: nearest major airports are Prague and Vienna. From
  Prague, there are regular direct trains, with the train station just
  a five-minute walk from the main venue. The town is also conveniently
  reached by car, with smooth highway connections from Poland, Slovakia
 , Austria, and Germany.\r\nPractical information\r\nAlongside standard
  festival passes, Blues Alive offers “All Inclusive” packages cove
 ring tickets, accommodation with wellness, meals, and transport from 
 the hotel. Accommodation can also be booked separately. Full program, 
 travel options, ticket\r\ninformation and other useful tips at www.blu
 esalive.cz\r\nContact\r\nLuisa Suchochlebová\r\nInternational PR Mana
 ger\r\n\n\nFor more information visit https://blues.gr/events/blues-al
 ive-2025-czech
DTSTART;TZID=Europe/Athens:20251114T000000
DTEND;TZID=Europe/Athens:20251116T235900
CATEGORIES:blues, festival
LOCATION:Šumperk, Czech Republic
WEBSITE:http://www.bluesalive.cz
URL:http://www.bluesalive.cz
CONTACT:
ORGANIZER:Blues Alive
ATTACH;FMTTYPE="image/jpeg":https://storage.ning.com/topology/rest/1.0
 /file/get/13712588088?profile=original
ATTENDEE;ROLE=REQ-PARTICIPANT;PARTSTAT=ACCEPTED;RSVP=TRUE;CN="Music Ne
 twork by Michael Limnios":https://blues.gr/profile/MichalisLimnios
END:VEVENT
END:VCALENDAR
