BEGIN:VCALENDAR
PRODID:NingEventWidget-v1
VERSION:2.0
METHOD:PUBLISH
BEGIN:VTIMEZONE
TZID:Europe/Athens
X-LIC-LOCATION:Europe/Athens
BEGIN:DAYLIGHT
TZOFFSETFROM:+0200
TZOFFSETTO:+0300
TZNAME:EEST
DTSTART:19700329T030000
RRULE:FREQ=YEARLY;BYMONTH=3;BYDAY=-1SU
END:DAYLIGHT
BEGIN:STANDARD
TZOFFSETFROM:+0300
TZOFFSETTO:+0200
TZNAME:EET
DTSTART:19701025T040000
RRULE:FREQ=YEARLY;BYMONTH=10;BYDAY=-1SU
END:STANDARD
END:VTIMEZONE
BEGIN:VEVENT
UID:1982923:Event:104083
DTSTAMP:20260420T060427Z
SUMMARY:Blues Bug + Guests
DESCRIPTION:Οι μεγαλύτερες Soul, Funk, Blues και R’n
 ’B επιτυχίες αποκτούν νέα δυναμική με 
 τους Bug επί σκηνής. Μαζί τους αγαπημένο
 ι φίλοι καλλιτέχνες σε ένα guest act show που
  υπόσχεται μια αξέχαστη μουσική βραδι
 !\nwww.bluesbug.com\n\n\n\nFor more information visit https://blues.g
 r/events/blues-bug-guests
DTSTART;TZID=Europe/Athens:20110521T223000
DTEND;TZID=Europe/Athens:20110522T020000
CATEGORIES:live
LOCATION:Bacaro
WEBSITE:http://bacaro.gr/
URL:http://bacaro.gr/
CONTACT:210-3211882
ORGANIZER:Bacaro
ATTACH;FMTTYPE="image/jpeg":http://storage.ning.com/topology/rest/1.0/
 file/get/2252950258?profile=original
ATTENDEE;ROLE=REQ-PARTICIPANT;PARTSTAT=ACCEPTED;RSVP=TRUE;CN="Music Ne
 twork by Michael Limnios":https://blues.gr/profile/MichalisLimnios
END:VEVENT
END:VCALENDAR
