BEGIN:VCALENDAR
PRODID:NingEventWidget-v1
VERSION:2.0
METHOD:PUBLISH
BEGIN:VTIMEZONE
TZID:Europe/Athens
X-LIC-LOCATION:Europe/Athens
BEGIN:DAYLIGHT
TZOFFSETFROM:+0200
TZOFFSETTO:+0300
TZNAME:EEST
DTSTART:19700329T030000
RRULE:FREQ=YEARLY;BYMONTH=3;BYDAY=-1SU
END:DAYLIGHT
BEGIN:STANDARD
TZOFFSETFROM:+0300
TZOFFSETTO:+0200
TZNAME:EET
DTSTART:19701025T040000
RRULE:FREQ=YEARLY;BYMONTH=10;BYDAY=-1SU
END:STANDARD
END:VTIMEZONE
BEGIN:VEVENT
UID:1982923:Event:248661
DTSTAMP:20260422T141917Z
SUMMARY:Blues Cargo + Blues'n Soul Shakers Live t Zoo
DESCRIPTION:Μία blues βραδιά με τους BLUES CARGO, τη
  πιο αυθεντική Chicago Blues Band της Αθηναϊκή
 ς σκηνής, με Chicago-Funky-Soul-Blues Standards αλλά κα
 ι δικές τους συνθέσεις από το καινούρι
 ο CD Delayed Delivery που απέσπασε της καλύτερε
 ς κριτικές από το μεγαλύτερο διεθνές π
 εριοδικό “BLUES REVIEW”.\nΔεν είναι υπερβολ
 ή να υποστηρίξει κάποιος ότι οι BLUES CARGO
  βρίσκονται σήμερα πιο κοντά στον αυθε
 ντικό ήχο του Σικάγο από αρκετές μπάν
 τες που δραστηριοποιούνται στο ίδιο τ
  Σικάγο.\n \n  Μια μπάντα με 29 χρόνια ζω
 ής, πολύτιμες εμπειρίες και απόλυτη αί
 σθηση της φόρμας και του ήθους του μπλ
 υζ που στην μακρόχρονη πορεία της έχε
  συνοδεύσει μουσικούς σαν τον Guitar Shorty,
  U.P Wilson, Louisiana Red, Lurrie Bell, Big Time Sarah, Eddie C. Camp
 bell, Lefty Dizz, Angela Brown, Lovie Lee, Byther Smith, Jean Caroll, 
 Maxine Howard, Blind Mississippi Morris, Sweet Betty, Jimmy Morello , 
 Nellie Tiger Travis , Jolly Jumper and Big Moe , Michael Dotson,Janice
  Harrington, Matthew Skoller. www.bluescargo.gr      https://www
 .facebook.com/pages/Blues-Cargo/177978408948832\nBLUES N’SOUL SHAKER
 S\nΠέντε μουσικοί συναντήθηκαν σε ένα κ
 οινό σημείο, και  δήλωσαν την ακαταμάχ
 ητη θέλησή τους να εκφραστούν μουσικά 
 μέσα από την Blues και την Soul μουσική. Από
  την πρώτη κιόλας στιγμή τα πράγματα ά
 χισαν να δονούνται. Έτσι την άνοιξη το
 υ 2015 γεννήθηκαν οι BLUES N’SOUL SHAKERS. Έχοντα
 ς γερές βάσεις στο Chicago Blues style, εξερευν
 ύν την Soul και φλερτάρουν σοβαρά με την
  Funk Blues μουσική.Οι BLUES N’SOUL SHAKERS έχουν βά
 λει ένα στόχο, να αφήσουν ένα σοβαρό στ
 ίγμα στην ελληνική Blues μουσική σκηνή κ
 ι δεσμεύονται για αυτό.https://www.facebook.com/BL
 UES-NSOUL-SHAKERS-387682228103362/?ref=hl\n\nFor more information visi
 t https://blues.gr/events/blues-cargo-blues-n-soul-shakers-live-t-zoo
DTSTART;TZID=Europe/Athens:20161112T220000
DTEND;TZID=Europe/Athens:20161113T010000
CATEGORIES:chicago, funky, soulful, high, energy, blues
LOCATION:Zoo
WEBSITE:https://www.facebook.com/thezoopub/timeline
URL:https://www.facebook.com/thezoopub/timeline
CONTACT:Τηλ  2106745375
ORGANIZER;CN="Dimitris Ioannou":https://blues.gr/profile/DimitrisIoann
 ou
ATTACH;FMTTYPE="image/jpeg":http://storage.ning.com/topology/rest/1.0/
 file/get/2253051638?profile=original
ATTENDEE;ROLE=REQ-PARTICIPANT;PARTSTAT=ACCEPTED;RSVP=TRUE;CN="Dimitris
  Ioannou":https://blues.gr/profile/DimitrisIoannou
END:VEVENT
END:VCALENDAR
