BEGIN:VCALENDAR
PRODID:NingEventWidget-v1
VERSION:2.0
METHOD:PUBLISH
BEGIN:VTIMEZONE
TZID:Europe/Athens
X-LIC-LOCATION:Europe/Athens
BEGIN:DAYLIGHT
TZOFFSETFROM:+0200
TZOFFSETTO:+0300
TZNAME:EEST
DTSTART:19700329T030000
RRULE:FREQ=YEARLY;BYMONTH=3;BYDAY=-1SU
END:DAYLIGHT
BEGIN:STANDARD
TZOFFSETFROM:+0300
TZOFFSETTO:+0200
TZNAME:EET
DTSTART:19701025T040000
RRULE:FREQ=YEARLY;BYMONTH=10;BYDAY=-1SU
END:STANDARD
END:VTIMEZONE
BEGIN:VEVENT
UID:1982923:Event:254194
DTSTAMP:20260422T040527Z
SUMMARY:Blues Cargo featuring Michael Dotson live at Le Reve
DESCRIPTION:Μία blues βραδιά με τους BLUES CARGO, τη
  πιο αυθεντική Chicago Blues Band της Αθηναϊκή
 ς σκηνής.Μία βραδιά με Chicago-Funky-Soul-Blues Stan
 dards αλλά δικές τους συνθέσεις .Μια μπάν
 τα με 30 χρόνια ζωής, και πολύτιμες εμπε
 ιρίες πάνω στην αίσθηση της φόρμας και
  του ήθους του μπλουζ που στην μακρόχρ
 νη πορεία της έχει συνοδεύσει μουσικο
 ύς σαν τον Guitar Shorty, U.P Wilson, Louisiana Red, Lurrie Be
 ll, Big Time Sarah, Eddie C. Campbell, Lefty Dizz, Angela Brown, Lovie
  Lee, Byther Smith, Jean Caroll, Maxine Howard, Blind Mississippi Morr
 is, Sweet Betty, Jimmy Morello , Nellie Tiger Travis , Jolly Jumper an
 d Big Moe , Michael Dotson,Janice Harrington, Matthew Skoller.Στο l
 ive θα είναι διαθέσιμο και το καινούριο 
 CD των Blues Cargo \" ON TIME\" Με Με το πλήρες ένθ
 ετο!!www.bluescargo.gr https://www.facebook.com/pages/Blues-Cargo/
 177978408948832Μαζί τους θα είναι και ο Michael Dot
 son.O Michael Dotson είναι ένας παγκοσμίου φήμη
 ς bluesman από το Σικάγο. H μουσική του μπορ
 εί να περιγραφεί ως “high energy Chicago-style house
  rockin’ blues”, ένα ωμό μίγμα από shuffles και b
 oogies με γερές ρίζες στην παράδοση και γ
 μάτο καυτή κιθάρα. Γέννημα-θρέμμα του 
 Νότιου Σικάγο, απέκτησε τις επιρροές τ
 ου ήδη από την εφηβεία, τρυπώνοντας στ
  μπαρ όπου εμφανίζονταν όλοι οι θρύλο
  της εποχής: Muddy Waters, Buddy Guy, Junior Wells, Otis Rus
 h.Ως κιθαρίστας, συνθέτης και τραγουδι
 τής έχει συνεργαστεί με τούς μεγαλύτε
 ρους καλλιτέχνες του είδους. Υπήρξε μέ
 λος των περίφημων Teardrops του Magic Slim, ένα 
 χήμα που απέσπασε το βραβείο W.C Handy για
  την καλύτερη blues μπάντα στον κόσμο. Έχ
 ι συνεργαστεί με τους Aaron Burton, Big Time Sarah,
  Little Mac Simmons, Jimmy Burns, Willie Kent, Homesick James, Big Jac
 k Johnson και άλλα ηχηρά ονόματα της blues σκ
 νής των Η.Π.Α. Εδώ και πάνω από δέκα χρό
 νια ακολουθεί μια πετυχημένη σόλο καρ
 έρα σε Ευρώπη και Αμερική. Το 2006 κυκλο
 ορεί το πρώτο του CD “Lightning in my pocket”.\n\nF
 or more information visit https://blues.gr/events/blues-cargo-featurin
 g-michael-dotson-live-at-le-reve
DTSTART;TZID=Europe/Athens:20170224T220000
DTEND;TZID=Europe/Athens:20170225T010000
CATEGORIES:chicago, funky, soulful, high, energy, blues
LOCATION:Le Reve
WEBSITE:https://www.facebook.com/Le.Reve.Cafe.bistro/
URL:https://www.facebook.com/Le.Reve.Cafe.bistro/
CONTACT:210 9750410
ORGANIZER;CN="Dimitris Ioannou":https://blues.gr/profile/DimitrisIoann
 ou
ATTACH;FMTTYPE="image/jpeg":http://storage.ning.com/topology/rest/1.0/
 file/get/2253053477?profile=original
ATTENDEE;ROLE=REQ-PARTICIPANT;PARTSTAT=ACCEPTED;RSVP=TRUE;CN="Dimitris
  Ioannou":https://blues.gr/profile/DimitrisIoannou
END:VEVENT
END:VCALENDAR
