BEGIN:VCALENDAR
PRODID:NingEventWidget-v1
VERSION:2.0
METHOD:PUBLISH
BEGIN:VTIMEZONE
TZID:Europe/Athens
X-LIC-LOCATION:Europe/Athens
BEGIN:DAYLIGHT
TZOFFSETFROM:+0200
TZOFFSETTO:+0300
TZNAME:EEST
DTSTART:19700329T030000
RRULE:FREQ=YEARLY;BYMONTH=3;BYDAY=-1SU
END:DAYLIGHT
BEGIN:STANDARD
TZOFFSETFROM:+0300
TZOFFSETTO:+0200
TZNAME:EET
DTSTART:19701025T040000
RRULE:FREQ=YEARLY;BYMONTH=10;BYDAY=-1SU
END:STANDARD
END:VTIMEZONE
BEGIN:VEVENT
UID:1982923:Event:48472
DTSTAMP:20260422T153859Z
SUMMARY:Blues Cargo High Energy Blues Party at ARGO bar Mykonos (Kolon
 aki)
DESCRIPTION:Μία blues βραδιά με τους BLUES CARGO, τη
  πιο αυθεντική Chicago Blues Band της Αθηναϊκή
 ς σκηνής. Μια μπάντα με 21 χρόνια ζωής, π
 ολύτιμες εμπειρίες και απόλυτη αίσθησ
 η της φόρμας και του ήθους του μπλουζ, 
 ου δημιουργήθηκε στα 1987 από τέσσερις 
 ουσικούς, ενωμένους με την κοινή τους 
 αγάπη για τα μπλουζ, τους Σ. Ζαφειρίου, 
 Δ.Ιωάννου, Σ. Ζούζουλα και Σ. Γαβριηλίδ
 . Στην μακρόχρονη πορεία τους έχουν συ
 νοδεύσει μουσικούς σαν τον Guitar Shorty, U.P W
 ilson, Louisiana Red, Lurrie Bell, Big Time Sarah, Eddie C. Campbell, 
 Lefty Dizz, Angela Brown, Lovie Lee, Byther Smith, Jean Caroll, Maxine
  Howard, Blind Mississippi Morris, Sweet Betty, Jimmy Morello , Nellie
  Tiger Travis , Jolly Jumper and Big Moe. H τωρινή σύνθεσ
  τους περιλαμβάνει τους Στέλιο Ζαφειρ
 ίου - κιθάρα, Δημήτρη Ιωάννου- μπάσσο, τ
 ραγούδι, Μπάμπη Τσικιβίγκο /Δημήτρη Ψά
 λτη-σαξόφωνο,Γιώργο Λαλογιάννη / Ορέστ
 η Βαβίτσα-πλήκτρα και Πέτρο Δακτυλίδη-
 ντραμς. Σε αυτό το Live θα έχετε την ευκα
 ρία να ακούσετε δικές τους συνθέσεις 
 πό το καινούριο CD Delayed Delivery καθώς και α
 ρκετές διασκευές γνωστών καλλιτεχνών.
 \n\nFor more information visit https://blues.gr/events/blues-cargo-hig
 h-energy-blues
DTSTART;TZID=Europe/Athens:20100408T000000
DTEND;TZID=Europe/Athens:20100408T235900
CATEGORIES:chicago, funky, blues, party
LOCATION:Argo Bar Mykonos , Kolonaki
WEBSITE:
URL:
CONTACT:6938 676734
ORGANIZER;CN="Dimitris Ioannou":https://blues.gr/profile/DimitrisIoann
 ou
ATTACH;FMTTYPE="image/jpeg":http://storage.ning.com/topology/rest/1.0/
 file/get/2252942398?profile=original
ATTENDEE;ROLE=REQ-PARTICIPANT;PARTSTAT=ACCEPTED;RSVP=TRUE;CN="Dimitris
  Ioannou":https://blues.gr/profile/DimitrisIoannou
END:VEVENT
END:VCALENDAR
