BEGIN:VCALENDAR
PRODID:NingEventWidget-v1
VERSION:2.0
METHOD:PUBLISH
BEGIN:VTIMEZONE
TZID:Europe/Athens
X-LIC-LOCATION:Europe/Athens
BEGIN:DAYLIGHT
TZOFFSETFROM:+0200
TZOFFSETTO:+0300
TZNAME:EEST
DTSTART:19700329T030000
RRULE:FREQ=YEARLY;BYMONTH=3;BYDAY=-1SU
END:DAYLIGHT
BEGIN:STANDARD
TZOFFSETFROM:+0300
TZOFFSETTO:+0200
TZNAME:EET
DTSTART:19701025T040000
RRULE:FREQ=YEARLY;BYMONTH=10;BYDAY=-1SU
END:STANDARD
END:VTIMEZONE
BEGIN:VEVENT
UID:1982923:Event:76399
DTSTAMP:20260419T234111Z
SUMMARY:BLUES CARGO IS LOADING@ LAZY CLUB
DESCRIPTION:Σάββατο 30/10\nBLUES CARGO\nΣτέλιος Ζαφε
 ιρίου: κιθάρα, Δημήτρης Ιωάννου: μπάσο-
 φωνή, Γιάννης Χριστόπουλος: ντραμς, Γι
 ργος Λαγογιάννης: πλήκτρα, Μπάμπης Τσ
 λιβίγκος: σαξόφωνο.\n\nΚυρίες & κύριοι, 
 ε τιμή σας παρουσιάζουμε τους πατριάρ
 χες της BLUES σκηνής της Αθήνας! Η ζωνταν
  ιστορία μπροστά σας, στο stage του LAZY. Η 
 πόλυτη τιμή!\n\nFor more information visit https://blues.gr
 /events/blues-cargo-is-loading-lazy
DTSTART;TZID=Europe/Athens:20101030T223000
DTEND;TZID=Europe/Athens:20101031T030000
CATEGORIES:blues, and, "more..."
LOCATION:LAZY CLUB
WEBSITE:http://www.athinorama.gr/music/data/halls/?id=10000084&selTab=
 1
URL:http://www.athinorama.gr/music/data/halls/?id=10000084&selTab=1
CONTACT:210 6895535
ORGANIZER;CN="Spiros Dramitinos":https://blues.gr/profile/SpirosDramit
 inos
ATTACH;FMTTYPE="image/jpeg":http://storage.ning.com/topology/rest/1.0/
 file/get/2252944626?profile=original
ATTENDEE;ROLE=REQ-PARTICIPANT;PARTSTAT=ACCEPTED;RSVP=TRUE;CN="Drimouss
 is Giwrgos":https://blues.gr/profile/DrimoussisGiwrgos
ATTENDEE;ROLE=REQ-PARTICIPANT;PARTSTAT=ACCEPTED;RSVP=TRUE;CN="tony dol
 laro":https://blues.gr/profile/tonydollaro
ATTENDEE;ROLE=REQ-PARTICIPANT;PARTSTAT=ACCEPTED;RSVP=TRUE;CN="Thanasis
  Giokas":https://blues.gr/profile/giokasthanasis
ATTENDEE;ROLE=REQ-PARTICIPANT;PARTSTAT=ACCEPTED;RSVP=TRUE;CN="Dimitris
  Ioannou":https://blues.gr/profile/DimitrisIoannou
ATTENDEE;ROLE=REQ-PARTICIPANT;PARTSTAT=ACCEPTED;RSVP=TRUE;CN="Spiros D
 ramitinos":https://blues.gr/profile/SpirosDramitinos
END:VEVENT
END:VCALENDAR
