BEGIN:VCALENDAR
PRODID:NingEventWidget-v1
VERSION:2.0
METHOD:PUBLISH
BEGIN:VTIMEZONE
TZID:Europe/Athens
X-LIC-LOCATION:Europe/Athens
BEGIN:DAYLIGHT
TZOFFSETFROM:+0200
TZOFFSETTO:+0300
TZNAME:EEST
DTSTART:19700329T030000
RRULE:FREQ=YEARLY;BYMONTH=3;BYDAY=-1SU
END:DAYLIGHT
BEGIN:STANDARD
TZOFFSETFROM:+0300
TZOFFSETTO:+0200
TZNAME:EET
DTSTART:19701025T040000
RRULE:FREQ=YEARLY;BYMONTH=10;BYDAY=-1SU
END:STANDARD
END:VTIMEZONE
BEGIN:VEVENT
UID:1982923:Event:210411
DTSTAMP:20260423T060450Z
SUMMARY:BLUES CARGO @ LAZY CLUB
DESCRIPTION:\n Στέλιος Ζαφειρίου: κιθάρα, Δη
 ήτρης Ιωάννου: μπάσο-φωνή, special guest Άκη
  Σκιαδόπουλος: φυσαρμόνικα, Μπάμπης Τ
 ιλιβίγκος: σαξόφωνο, Τόλης Γούλας: ντρ
 αμς.\nΚυρίες & κύριοι, με τιμή σας παρου
 ιάζουμε τους πατριάρχες της BLUES σκηνή
  της Αθήνας! Η ζωντανή ιστορία μπροστά
  σας, στο stage του LAZY. Η απόλυτη τιμή!\n\nFor 
 more information visit https://blues.gr/events/blues-cargo-lazy-club-1
DTSTART;TZID=Europe/Athens:20140920T230000
DTEND;TZID=Europe/Athens:20140921T020000
CATEGORIES:blues, night
LOCATION:LAZY CLUB
WEBSITE:
URL:
CONTACT:210 6895535
ORGANIZER;CN="Spiros Dramitinos":https://blues.gr/profile/SpirosDramit
 inos
ATTACH;FMTTYPE="image/jpeg":http://storage.ning.com/topology/rest/1.0/
 file/get/2252992260?profile=original
ATTENDEE;ROLE=REQ-PARTICIPANT;PARTSTAT=ACCEPTED;RSVP=TRUE;CN="Dimitris
  Ioannou":https://blues.gr/profile/DimitrisIoannou
ATTENDEE;ROLE=REQ-PARTICIPANT;PARTSTAT=ACCEPTED;RSVP=TRUE;CN="Spiros D
 ramitinos":https://blues.gr/profile/SpirosDramitinos
END:VEVENT
END:VCALENDAR
