BEGIN:VCALENDAR
PRODID:NingEventWidget-v1
VERSION:2.0
METHOD:PUBLISH
BEGIN:VTIMEZONE
TZID:Europe/Athens
X-LIC-LOCATION:Europe/Athens
BEGIN:DAYLIGHT
TZOFFSETFROM:+0200
TZOFFSETTO:+0300
TZNAME:EEST
DTSTART:19700329T030000
RRULE:FREQ=YEARLY;BYMONTH=3;BYDAY=-1SU
END:DAYLIGHT
BEGIN:STANDARD
TZOFFSETFROM:+0300
TZOFFSETTO:+0200
TZNAME:EET
DTSTART:19701025T040000
RRULE:FREQ=YEARLY;BYMONTH=10;BYDAY=-1SU
END:STANDARD
END:VTIMEZONE
BEGIN:VEVENT
UID:1982923:Event:116085
DTSTAMP:20260420T054505Z
SUMMARY:ΟΙ BLUES CARGO ΣΤΟ LAZY CLUB
DESCRIPTION: \nΜία blues βραδιά με τους BLUES CARGO, 
 ην πιο αυθεντική Chicago Blues Band της Αθηναϊ
 κής σκηνής.\nΜία βραδιά με Funky-Soul Blues-Chicag
 o Standards αλλά δικές τους συνθέσεις από τ
  καινούριο CD Delayed Delivery που απέσπασε τη
  καλύτερες κριτικές από το μεγαλύτερο
  διεθνές περιοδικό “BLUES REVIEW”.\n. Μια μπ
 ντα με 23 χρόνια ζωής, πολύτιμες εμπειρ
 ίες και απόλυτη αίσθηση της φόρμας και
  του ήθους του μπλουζ που στην μακρόχρ
 νη πορεία της έχει συνοδεύσει μουσικο
 ύς σαν τον Guitar Shorty, U.P Wilson, Louisiana Red, Lurrie Be
 ll, Big Time Sarah, Eddie C. Campbell, Lefty Dizz, Angela Brown, Lovie
  Lee, Byther Smith, Jean Caroll, Maxine Howard, Blind Mississippi Morr
 is, Sweet Betty, Jimmy Morello , Nellie Tiger Travis , Jolly Jumper an
 d Big Moe , Michael Dotson.\nΣτέλιος Ζαφειρίου - κι
 άρα, Δημήτρης Ιωάννου- μπάσσο, τραγούδ
 ι, Μπάμπης Τσιλιβίγκος-σαξόφωνο,Γιώργ
 ς Λαγογιάννης -πλήκτρα και Πέτρος Δακ
 υλίδης-ντραμς.\n  \nwww.bluescargo.gr www.myspace.com/b
 luescargo\n  email: zaf@. bluescargo gr. email:ioan@ bluescargo.gr\n\
 nFor more information visit https://blues.gr/events/blues-cargo-lazy-c
 lub
DTSTART;TZID=Europe/Athens:20111105T230000
DTEND;TZID=Europe/Athens:20111106T023000
CATEGORIES:συναυλια
LOCATION:Πεντέλης 1 στα Βριλήσια.
WEBSITE:http://maps.google.com/maps?f=q&source=s_q&hl=en&q=%CE%9B%CE%B
 5%CF%89%CF%86%CF%8C%CF%81%CE%BF%CF%82+%CE%A0%CE%B5%CE%BD%CF%84%CE%AD%C
 E%BB%CE%B7%CF%82+1,+%CE%92%CF%81%CE%B9%CE%BB%CE%AE%CF%83%CF%83%CE%B9%C
 E%B1+15235,+%CE%91%CE%B8%CE%AE%CE%BD%CE%B1,+Greece&sll=20.632784,-81.3
 86719&sspn=34.805689,56.162109&ie=UTF8&cd=5&geocode=FRdcRAId0YNrAQ&spl
 it=0&hq=&hnear=%CE%9B%CE%B5%CF%89%CF%86%CF%8C%CF%81%CE%BF%CF%82+%CE%A0
 %CE%B5%CE%BD%CF%84%CE%AD%CE%BB%CE%B7%CF%82+1,+%CE%92%CF%81%CE%B9%CE%BB
 %CE%AE%CF%83%CF%83
URL:http://maps.google.com/maps?f=q&source=s_q&hl=en&q=%CE%9B%CE%B5%CF
 %89%CF%86%CF%8C%CF%81%CE%BF%CF%82+%CE%A0%CE%B5%CE%BD%CF%84%CE%AD%CE%BB
 %CE%B7%CF%82+1,+%CE%92%CF%81%CE%B9%CE%BB%CE%AE%CF%83%CF%83%CE%B9%CE%B1
 +15235,+%CE%91%CE%B8%CE%AE%CE%BD%CE%B1,+Greece&sll=20.632784,-81.38671
 9&sspn=34.805689,56.162109&ie=UTF8&cd=5&geocode=FRdcRAId0YNrAQ&split=0
 &hq=&hnear=%CE%9B%CE%B5%CF%89%CF%86%CF%8C%CF%81%CE%BF%CF%82+%CE%A0%CE%
 B5%CE%BD%CF%84%CE%AD%CE%BB%CE%B7%CF%82+1,+%CE%92%CF%81%CE%B9%CE%BB%CE%
 AE%CF%83%CF%83
CONTACT:210 6895535 (για κράτηση τραπεζιού).
ORGANIZER;CN="Spiros Dramitinos":https://blues.gr/profile/SpirosDramit
 inos
ATTACH;FMTTYPE="image/jpeg":http://storage.ning.com/topology/rest/1.0/
 file/get/2252961265?profile=original
ATTENDEE;ROLE=REQ-PARTICIPANT;PARTSTAT=ACCEPTED;RSVP=TRUE;CN="Dimitris
  Ioannou":https://blues.gr/profile/DimitrisIoannou
ATTENDEE;ROLE=REQ-PARTICIPANT;PARTSTAT=ACCEPTED;RSVP=TRUE;CN="Spiros D
 ramitinos":https://blues.gr/profile/SpirosDramitinos
END:VEVENT
END:VCALENDAR
