BEGIN:VCALENDAR
PRODID:NingEventWidget-v1
VERSION:2.0
METHOD:PUBLISH
BEGIN:VTIMEZONE
TZID:Europe/Athens
X-LIC-LOCATION:Europe/Athens
BEGIN:DAYLIGHT
TZOFFSETFROM:+0200
TZOFFSETTO:+0300
TZNAME:EEST
DTSTART:19700329T030000
RRULE:FREQ=YEARLY;BYMONTH=3;BYDAY=-1SU
END:DAYLIGHT
BEGIN:STANDARD
TZOFFSETFROM:+0300
TZOFFSETTO:+0200
TZNAME:EET
DTSTART:19701025T040000
RRULE:FREQ=YEARLY;BYMONTH=10;BYDAY=-1SU
END:STANDARD
END:VTIMEZONE
BEGIN:VEVENT
UID:1982923:Event:37537
DTSTAMP:20260424T231015Z
SUMMARY:Blues cargo Live at 140 Live Music
DESCRIPTION:Chicago funky Blues with Soul that will burn down the hous
 e!!! (metaforicaly of course).\n\nFor more information visit https://b
 lues.gr/events/blues-cargo-live-at-140-live
DTSTART;TZID=Europe/Athens:20091226T200000
DTEND;TZID=Europe/Athens:20091226T230000
CATEGORIES:chicago, funky, blues, gig
LOCATION:140
WEBSITE:
URL:
CONTACT:6908 939091 & 22330 31132
ORGANIZER;CN="Dimitris Ioannou":https://blues.gr/profile/DimitrisIoann
 ou
ATTACH;FMTTYPE="image/jpeg":http://storage.ning.com/topology/rest/1.0/
 file/get/2112344346?profile=original
ATTENDEE;ROLE=REQ-PARTICIPANT;PARTSTAT=ACCEPTED;RSVP=TRUE;CN="Dimitris
  Ioannou":https://blues.gr/profile/DimitrisIoannou
ATTENDEE;ROLE=REQ-PARTICIPANT;PARTSTAT=TENTATIVE;RSVP=TRUE;CN="Giannis
  Pachidis":https://blues.gr/profile/ioannis
END:VEVENT
END:VCALENDAR
