BEGIN:VCALENDAR
PRODID:NingEventWidget-v1
VERSION:2.0
METHOD:PUBLISH
BEGIN:VTIMEZONE
TZID:Europe/Athens
X-LIC-LOCATION:Europe/Athens
BEGIN:DAYLIGHT
TZOFFSETFROM:+0200
TZOFFSETTO:+0300
TZNAME:EEST
DTSTART:19700329T030000
RRULE:FREQ=YEARLY;BYMONTH=3;BYDAY=-1SU
END:DAYLIGHT
BEGIN:STANDARD
TZOFFSETFROM:+0300
TZOFFSETTO:+0200
TZNAME:EET
DTSTART:19701025T040000
RRULE:FREQ=YEARLY;BYMONTH=10;BYDAY=-1SU
END:STANDARD
END:VTIMEZONE
BEGIN:VEVENT
UID:1982923:Event:248961
DTSTAMP:20260422T140841Z
SUMMARY:Blues Cargo live at Μικρό Καφέ.
DESCRIPTION:Μία blues βραδιά με τους BLUES CARGO, τη
  πιο αυθεντική Chicago Blues Band της Αθηναϊκή
 ς σκηνής.\nΜία βραδιά με Chicago-Funky-Soul-Blues St
 andards αλλά δικές τους συνθέσεις .\n Μια μ
 πάντα με 25 χρόνια ζωής, με πολύτιμες εμ
 πειρίες πάνω στην αίσθηση της φόρμας κ
 αι του ήθους του μπλουζ που στην μακρό
 ρονη πορεία της έχει συνοδεύσει μουσι
 κούς σαν τον Guitar Shorty, U.P Wilson, Louisiana Red, Lurri
 e Bell, Big Time Sarah, Eddie C. Campbell, Lefty Dizz, Angela Brown, L
 ovie Lee, Byther Smith, Jean Caroll, Maxine Howard, Blind Mississippi 
 Morris, Sweet Betty, Jimmy Morello , Nellie Tiger Travis , Jolly Jumpe
 r and Big Moe , Michael Dotson,Janice Harrington, Matthew Skoller.\n 
 Στο live θα είναι διαθέσιμο και το καινο
 ριο CD των Blues Cargo \" ON TIME\" Με το πλήρες έν
 θετο!!\nΣτέλιος Ζαφειρίου - κιθάρα, Δημή
 τρης Ιωάννου- μπάσο, τραγούδι, Νίκος Σκ
 ιαδόπουλος – harp και Πέτρος Δακτυλίδης
 -ντραμς.\n                          www
 .bluescargo.gr               https://www.facebook.com/pa
 ges/Blues-Cargo/177978408948832\n\nFor more information visit https://
 blues.gr/events/blues-cargo-live-at-2
DTSTART;TZID=Europe/Athens:20161119T220000
DTEND;TZID=Europe/Athens:20161120T190000
CATEGORIES:chicago, funky, soulful, high, energy, blues
LOCATION:Μικρό Καφέ
WEBSITE:https://www.facebook.com/mikrocafereggaewest/
URL:https://www.facebook.com/mikrocafereggaewest/
CONTACT:210 575 6567
ORGANIZER;CN="Dimitris Ioannou":https://blues.gr/profile/DimitrisIoann
 ou
ATTACH;FMTTYPE="image/jpeg":http://storage.ning.com/topology/rest/1.0/
 file/get/2253051351?profile=original
ATTENDEE;ROLE=REQ-PARTICIPANT;PARTSTAT=ACCEPTED;RSVP=TRUE;CN="Dimitris
  Ioannou":https://blues.gr/profile/DimitrisIoannou
END:VEVENT
END:VCALENDAR
