BEGIN:VCALENDAR
PRODID:NingEventWidget-v1
VERSION:2.0
METHOD:PUBLISH
BEGIN:VTIMEZONE
TZID:Europe/Athens
X-LIC-LOCATION:Europe/Athens
BEGIN:DAYLIGHT
TZOFFSETFROM:+0200
TZOFFSETTO:+0300
TZNAME:EEST
DTSTART:19700329T030000
RRULE:FREQ=YEARLY;BYMONTH=3;BYDAY=-1SU
END:DAYLIGHT
BEGIN:STANDARD
TZOFFSETFROM:+0300
TZOFFSETTO:+0200
TZNAME:EET
DTSTART:19701025T040000
RRULE:FREQ=YEARLY;BYMONTH=10;BYDAY=-1SU
END:STANDARD
END:VTIMEZONE
BEGIN:VEVENT
UID:1982923:Event:265353
DTSTAMP:20260425T045409Z
SUMMARY:Blues Cargo live at Afikana
DESCRIPTION:ΜίαbluesβραδιάμετουςBLUESCARGO, την πι
 ο αυθεντική Chicago Blues Band της Αθηναϊκής σ
 ηνής. Μία βραδιά με Chicago-Funky-Soul-BluesStandards 
 αλλά και δικές τους συνθέσεις . Μιαμπά
 ταμε 30χρόνιαζωής, μεπολύτιμεςεμπειρί
 εςπάνωστηναίσθησητηςφόρμαςκαιτουήθο
 υςτουμπλουζπουστηνμακρόχρονηπορείατ
 ηςέχεισυνοδεύσειμουσικούςσαντονGuitarSh
 orty, U.PWilson, LouisianaRed, LurrieBell, BigTimeSarah, EddieC. Campb
 ell, LeftyDizz, AngelaBrown, LovieLee, BytherSmith, JeanCaroll, Maxine
 Howard, BlindMississippiMorris, SweetBetty, JimmyMorello ,NellieTigerT
 ravis , JollyJumperandBigMoe , MichaelDotson,JaniceHarrington, Matthew
 Skoller. Δημήτρης Ιωάννου- μπάσο, τραγούδι
 ,Στέλιος Ζαφειρίου - κιθάρα, Νίκος Σκια
 δόπουλος - φυσαρμόνικα , τραγούδι και Γ
 ιάννης Χριστόπουλος\n- ντραμς. www.bluescargo.
 grhttps://www.facebook.com/pages/Blues-Cargo/177978408948832 Στο LI
 VE θα είναι διαθέσιμο και το καινούριο C
 D των BluesCargo\" ONTIME\" Με το πλήρες ένθετοπο
 υ απέσπασε εξαιρετική κριτική από το Α
 μερικανικό “Blues Blast”magazine!! http://www.bluesblast
 magazine.com/blues-cargo-on-time-album-review/\n\nFor more information
  visit https://blues.gr/events/blues-cargo-live-at-afikana
DTSTART;TZID=Europe/Athens:20180519T223000
DTEND;TZID=Europe/Athens:20180520T010000
CATEGORIES:chicago, high, energy, blues
LOCATION:Afikana
WEBSITE:https://www.facebook.com/pg/afrikana.athens/about/?ref=page_in
 ternal
URL:https://www.facebook.com/pg/afrikana.athens/about/?ref=page_intern
 al
CONTACT:2103410445 6946666954
ORGANIZER;CN="Dimitris Ioannou":https://blues.gr/profile/DimitrisIoann
 ou
ATTACH;FMTTYPE="image/jpeg":http://storage.ning.com/topology/rest/1.0/
 file/get/2253060085?profile=original
ATTENDEE;ROLE=REQ-PARTICIPANT;PARTSTAT=ACCEPTED;RSVP=TRUE;CN="Dimitris
  Ioannou":https://blues.gr/profile/DimitrisIoannou
END:VEVENT
END:VCALENDAR
