BEGIN:VCALENDAR
PRODID:NingEventWidget-v1
VERSION:2.0
METHOD:PUBLISH
BEGIN:VTIMEZONE
TZID:Europe/Athens
X-LIC-LOCATION:Europe/Athens
BEGIN:DAYLIGHT
TZOFFSETFROM:+0200
TZOFFSETTO:+0300
TZNAME:EEST
DTSTART:19700329T030000
RRULE:FREQ=YEARLY;BYMONTH=3;BYDAY=-1SU
END:DAYLIGHT
BEGIN:STANDARD
TZOFFSETFROM:+0300
TZOFFSETTO:+0200
TZNAME:EET
DTSTART:19701025T040000
RRULE:FREQ=YEARLY;BYMONTH=10;BYDAY=-1SU
END:STANDARD
END:VTIMEZONE
BEGIN:VEVENT
UID:1982923:Event:194281
DTSTAMP:20260423T100221Z
SUMMARY:Blues cargo Live at Παλιάτσος - Cafe/Winebar Κυρι
 ακή 26 Ιανουαρίου
DESCRIPTION:Μία blues βραδιά με τους BLUES CARGO, τη
  πιο αυθεντική Chicago Blues Band της Αθηναϊκή
 ς σκηνής.\nΜία βραδιά με Chicago-Funky-Soul-Blues St
 andards αλλά δικές τους συνθέσεις από το κ
 αινούριο CD Delayed Delivery που απέσπασε της κ
 αλύτερες κριτικές από το μεγαλύτερο δ
 εθνές περιοδικό “BLUES REVIEW”.\n. Μια μπάν
 α με 25 χρόνια ζωής, πολύτιμες εμπειρίε
 ς και απόλυτη αίσθηση της φόρμας και τ
 υ ήθους του μπλουζ που στην μακρόχρον
  πορεία της έχει συνοδεύσει μουσικούς
  σαν τούς Guitar Shorty, U.P Wilson, Louisiana Red, Lurrie Bell
 , Big Time Sarah, Eddie C. Campbell, Lefty Dizz, Angela Brown, Lovie L
 ee, Byther Smith, Jean Caroll, Maxine Howard, Blind Mississippi Morris
 , Sweet Betty, Jimmy Morello , Nellie Tiger Travis , Jolly Jumper and 
 Big Moe , Michael Dotson,Janice Harrington, Matthew Skoller.\nΣτέλ
 ιος Ζαφειρίου - κιθάρα, Δημήτρης Ιωάνν
 υ- μπάσσο, τραγούδι, Μπάμπης Τσιλιβίγκ
 ος/Δημήτρης Ψάλτης -σαξόφωνο,Γιώργος Λ
 αγογιάννης -πλήκτρα και Τόλης Γούλας-ν
 τραμς.\n                           www.
 bluescargo.gr      https://www.facebook.com/pages/Blues-Cargo/177
 978408948832\n \n\nFor more information visit https://blues.gr/events
 /blues-cargo-live-at-cafe-winebar-26
DTSTART;TZID=Europe/Athens:20140126T220000
DTEND;TZID=Europe/Athens:20140127T010000
CATEGORIES:chicago, high, energy, groovy, funky, blues
LOCATION:Παλιάτσος - Cafe/Winebar
WEBSITE:https://www.facebook.com/paliatsoswinebar?fref=ts
URL:https://www.facebook.com/paliatsoswinebar?fref=ts
CONTACT:
ORGANIZER;CN="Dimitris Ioannou":https://blues.gr/profile/DimitrisIoann
 ou
ATTACH;FMTTYPE="image/jpeg":http://storage.ning.com/topology/rest/1.0/
 file/get/2252936828?profile=original
ATTENDEE;ROLE=REQ-PARTICIPANT;PARTSTAT=ACCEPTED;RSVP=TRUE;CN="Dimitris
  Ioannou":https://blues.gr/profile/DimitrisIoannou
END:VEVENT
END:VCALENDAR
