BEGIN:VCALENDAR
PRODID:NingEventWidget-v1
VERSION:2.0
METHOD:PUBLISH
BEGIN:VTIMEZONE
TZID:Europe/Athens
X-LIC-LOCATION:Europe/Athens
BEGIN:DAYLIGHT
TZOFFSETFROM:+0200
TZOFFSETTO:+0300
TZNAME:EEST
DTSTART:19700329T030000
RRULE:FREQ=YEARLY;BYMONTH=3;BYDAY=-1SU
END:DAYLIGHT
BEGIN:STANDARD
TZOFFSETFROM:+0300
TZOFFSETTO:+0200
TZNAME:EET
DTSTART:19701025T040000
RRULE:FREQ=YEARLY;BYMONTH=10;BYDAY=-1SU
END:STANDARD
END:VTIMEZONE
BEGIN:VEVENT
UID:1982923:Event:248964
DTSTAMP:20260422T122218Z
SUMMARY:Blues Cargo Live at Egalite
DESCRIPTION:Μία blues βραδιά με τους BLUES CARGO, τη
  πιο αυθεντική Chicago Blues Band της Αθηναϊκή
 ς σκηνής.\nΜία βραδιά με Chicago-Funky-Soul-Blues St
 andards αλλά και δικές τους συνθέσεις .\n Μ
 ια μπάντα με 25 χρόνια ζωής, με πολύτιμε
 ς εμπειρίες πάνω στην αίσθηση της φόρμ
 ας και του ήθους του μπλουζ που στην μα
 κρόχρονη πορεία της έχει συνοδεύσει μ
 υσικούς σαν τον Guitar Shorty, U.P Wilson, Louisiana Red
 , Lurrie Bell, Big Time Sarah, Eddie C. Campbell, Lefty Dizz, Angela B
 rown, Lovie Lee, Byther Smith, Jean Caroll, Maxine Howard, Blind Missi
 ssippi Morris, Sweet Betty, Jimmy Morello , Nellie Tiger Travis , Joll
 y Jumper and Big Moe , Michael Dotson,Janice Harrington, Matthew Skoll
 er.\n Στο live θα είναι διαθέσιμο και το κα
 ινούριο CD των Blues Cargo \" ON TIME\" Με το πλήρε
 ς ένθετο!!\nΣτέλιος Ζαφειρίου - κιθάρα, 
 ημήτρης Ιωάννου- μπάσο, τραγούδι, Μπάμ
 πης   \n             Τσιλιβίγγος-sax, Γ
 ώργος Λαγογιάννης - Πλήκτρα και Πέτρο
  Δακτυλίδης-ντραμς.\n                
          www.bluescargo.gr               https
 ://www.facebook.com/pages/Blues-Cargo/177978408948832\n\nFor more info
 rmation visit https://blues.gr/events/blues-cargo-live-at-egalite-5
DTSTART;TZID=Europe/Athens:20161125T220000
DTEND;TZID=Europe/Athens:20161126T130000
CATEGORIES:chicago, funky, soulful, high, energy, blues
LOCATION:Egalite
WEBSITE:https://www.facebook.com/egalite.gr/
URL:https://www.facebook.com/egalite.gr/
CONTACT:210 271 6461
ORGANIZER;CN="Dimitris Ioannou":https://blues.gr/profile/DimitrisIoann
 ou
ATTACH;FMTTYPE="image/jpeg":http://storage.ning.com/topology/rest/1.0/
 file/get/2253051827?profile=original
ATTENDEE;ROLE=REQ-PARTICIPANT;PARTSTAT=ACCEPTED;RSVP=TRUE;CN="Dimitris
  Ioannou":https://blues.gr/profile/DimitrisIoannou
END:VEVENT
END:VCALENDAR
