BEGIN:VCALENDAR
PRODID:NingEventWidget-v1
VERSION:2.0
METHOD:PUBLISH
BEGIN:VTIMEZONE
TZID:Europe/Athens
X-LIC-LOCATION:Europe/Athens
BEGIN:DAYLIGHT
TZOFFSETFROM:+0200
TZOFFSETTO:+0300
TZNAME:EEST
DTSTART:19700329T030000
RRULE:FREQ=YEARLY;BYMONTH=3;BYDAY=-1SU
END:DAYLIGHT
BEGIN:STANDARD
TZOFFSETFROM:+0300
TZOFFSETTO:+0200
TZNAME:EET
DTSTART:19701025T040000
RRULE:FREQ=YEARLY;BYMONTH=10;BYDAY=-1SU
END:STANDARD
END:VTIMEZONE
BEGIN:VEVENT
UID:1982923:Event:25280
DTSTAMP:20260419T162720Z
SUMMARY:Blues Cargo Live at El Viaje
DESCRIPTION:Blues Cargo will play the Blues for you in the small but r
 eally warm and beautiful club of Vyronas ''EL VIAJE''.\nBecause the ro
 ad really matters.\nWe will enjoy your company!!!\n\nFor more informat
 ion visit https://blues.gr/events/blues-cargo-live-at-el-viaje
DTSTART;TZID=Europe/Athens:20090509T220000
DTEND;TZID=Europe/Athens:20090510T130000
CATEGORIES:blues, gig
LOCATION:''El Viaje\" Vironas
WEBSITE:
URL:
CONTACT:6977 436963
ORGANIZER;CN="Dimitris Ioannou":https://blues.gr/profile/DimitrisIoann
 ou
ATTACH;FMTTYPE="image/jpeg":http://storage.ning.com/topology/rest/1.0/
 file/get/2252936879?profile=original
ATTENDEE;ROLE=REQ-PARTICIPANT;PARTSTAT=ACCEPTED;RSVP=TRUE;CN="Dimitris
  Ioannou":https://blues.gr/profile/DimitrisIoannou
ATTENDEE;ROLE=REQ-PARTICIPANT;PARTSTAT=TENTATIVE;RSVP=TRUE;CN=demosthe
 nis:https://blues.gr/profile/demosthenis
END:VEVENT
END:VCALENDAR
