BEGIN:VCALENDAR
PRODID:NingEventWidget-v1
VERSION:2.0
METHOD:PUBLISH
BEGIN:VTIMEZONE
TZID:Europe/Athens
X-LIC-LOCATION:Europe/Athens
BEGIN:DAYLIGHT
TZOFFSETFROM:+0200
TZOFFSETTO:+0300
TZNAME:EEST
DTSTART:19700329T030000
RRULE:FREQ=YEARLY;BYMONTH=3;BYDAY=-1SU
END:DAYLIGHT
BEGIN:STANDARD
TZOFFSETFROM:+0300
TZOFFSETTO:+0200
TZNAME:EET
DTSTART:19701025T040000
RRULE:FREQ=YEARLY;BYMONTH=10;BYDAY=-1SU
END:STANDARD
END:VTIMEZONE
BEGIN:VEVENT
UID:1982923:Event:266513
DTSTAMP:20260422T065101Z
SUMMARY:Blues Cargo Live at Kerameio
DESCRIPTION:ΜίαbluesβραδιάμετουςBLUESCARGO, την πι
 ο αυθεντική Chicago Blues Band της Αθηναϊκής σ
 ηνής.\nΜία βραδιά με Chicago-Funky-Soul-BluesStandards
  αλλά και δικές τους συνθέσεις .\nΜιαμπ
 νταμε 30χρόνιαζωής, μεπολύτιμεςεμπειρ
 ίεςπάνωστηναίσθησητηςφόρμαςκαιτουήθ
 ουςτουμπλουζπουστηνμακρόχρονηπορεία
 τηςέχεισυνοδεύσειμουσικούςσαντονGuitar
 Shorty, U.PWilson, LouisianaRed, LurrieBell, BigTimeSarah, EddieC. Cam
 pbell, LeftyDizz, AngelaBrown, LovieLee, BytherSmith, JeanCaroll, Maxi
 neHoward, BlindMississippiMorris, SweetBetty, JimmyMorello ,NellieTige
 rTravis , JollyJumperandBigMoe , MichaelDotson,JaniceHarrington, Matth
 ewSkoller.\nΔημήτρης Ιωάννου- μπάσο, τραγού
 ι,Στέλιος Ζαφειρίου - κιθάρα, Μπάμπης 
 σιλιβίγγος-sax, Γιώργος Λαγογιάννης – 
 λήκτρα, Νίκος Σκιαδόπουλος - φυσαρμόν
 κα και Τόλης Γούλας  - ντραμς.\nwww.bluescargo
 .grhttps://www.facebook.com/pages/Blues-Cargo/177978408948832\nΣτο 
 LIVE θα είναι διαθέσιμο και το καινούριο
  CD των BluesCargo\" ONTIME\" Με το πλήρες ένθετοπ
 ου απέσπασε εξαιρετική κριτική από το 
 Αμερικανικό “Blues Blast”magazine!!\nhttp://www.bluesbl
 astmagazine.com/blues-cargo-on-time-album-review/\n\nFor more informat
 ion visit https://blues.gr/events/blues-cargo-live-at-kerameio-1
DTSTART;TZID=Europe/Athens:20180606T220000
DTEND;TZID=Europe/Athens:20180607T010000
CATEGORIES:chicago, high, energy, blues
LOCATION:Kerameio
WEBSITE:https://www.facebook.com/KerameioBar/
URL:https://www.facebook.com/KerameioBar/
CONTACT:21 0346 4223
ORGANIZER;CN="Dimitris Ioannou":https://blues.gr/profile/DimitrisIoann
 ou
ATTACH;FMTTYPE="image/jpeg":http://storage.ning.com/topology/rest/1.0/
 file/get/2253060848?profile=original
ATTENDEE;ROLE=REQ-PARTICIPANT;PARTSTAT=ACCEPTED;RSVP=TRUE;CN="Dimitris
  Ioannou":https://blues.gr/profile/DimitrisIoannou
END:VEVENT
END:VCALENDAR
