BEGIN:VCALENDAR
PRODID:NingEventWidget-v1
VERSION:2.0
METHOD:PUBLISH
BEGIN:VTIMEZONE
TZID:Europe/Athens
X-LIC-LOCATION:Europe/Athens
BEGIN:DAYLIGHT
TZOFFSETFROM:+0200
TZOFFSETTO:+0300
TZNAME:EEST
DTSTART:19700329T030000
RRULE:FREQ=YEARLY;BYMONTH=3;BYDAY=-1SU
END:DAYLIGHT
BEGIN:STANDARD
TZOFFSETFROM:+0300
TZOFFSETTO:+0200
TZNAME:EET
DTSTART:19701025T040000
RRULE:FREQ=YEARLY;BYMONTH=10;BYDAY=-1SU
END:STANDARD
END:VTIMEZONE
BEGIN:VEVENT
UID:1982923:Event:105441
DTSTAMP:20260421T231003Z
SUMMARY:Blues Cargo Live at Lazy
DESCRIPTION:Μία blues βραδιά με τους BLUES CARGO, τη
  πιο αυθεντική Chicago Blues Band της Αθηναϊκή
 ς σκηνής.Μία βραδιά με Funky-Soul Blues-Chicago Stan
 dards αλλά δικές τους συνθέσεις από το κα
 ινούριο CD Delayed Delivery που απέσπασε της κα
 λύτερες κριτικές από το μεγαλύτερο δι
 θνές περιοδικό “BLUES REVIEW”.. Μια μπάντα 
 με 23 χρόνια ζωής, πολύτιμες εμπειρίες 
 αι απόλυτη αίσθηση της φόρμας και του 
 ήθους του μπλουζ που στην μακρόχρονη π
 ορεία της έχει συνοδεύσει μουσικούς σ
 ν τον Guitar Shorty, U.P Wilson, Louisiana Red, Lurrie Bell, Big 
 Time Sarah, Eddie C. Campbell, Lefty Dizz, Angela Brown, Lovie Lee, By
 ther Smith, Jean Caroll, Maxine Howard, Blind Mississippi Morris, Swee
 t Betty, Jimmy Morello , Nellie Tiger Travis , Jolly Jumper and Big Mo
 e , Michael Dotson.Στέλιος Ζαφειρίου - κιθάρα, 
 ημήτρης Ιωάννου- μπάσσο, τραγούδι, Μπά
 μπης Τσιλιβίγκος-σαξόφωνο,Ορέστης Βαβ
 ίτσας -πλήκτρα και Πέτρος Δακτυλίδης-ν
 τραμς.\n\nFor more information visit https://blues.gr/events/blue
 s-cargo-live-at-lazy-2
DTSTART;TZID=Europe/Athens:20110625T233000
DTEND;TZID=Europe/Athens:20110626T030000
CATEGORIES:chicago, funky, blues
LOCATION:LAZY CLUB
WEBSITE:
URL:
CONTACT:210  6895535
ORGANIZER;CN="Dimitris Ioannou":https://blues.gr/profile/DimitrisIoann
 ou
ATTACH;FMTTYPE="image/jpeg":http://storage.ning.com/topology/rest/1.0/
 file/get/2252952511?profile=original
ATTENDEE;ROLE=REQ-PARTICIPANT;PARTSTAT=ACCEPTED;RSVP=TRUE;CN="Dimitris
  Ioannou":https://blues.gr/profile/DimitrisIoannou
ATTENDEE;ROLE=REQ-PARTICIPANT;PARTSTAT=TENTATIVE;RSVP=TRUE;CN=MALIAS:h
 ttps://blues.gr/profile/MALIAS
END:VEVENT
END:VCALENDAR
