BEGIN:VCALENDAR
PRODID:NingEventWidget-v1
VERSION:2.0
METHOD:PUBLISH
BEGIN:VTIMEZONE
TZID:Europe/Athens
X-LIC-LOCATION:Europe/Athens
BEGIN:DAYLIGHT
TZOFFSETFROM:+0200
TZOFFSETTO:+0300
TZNAME:EEST
DTSTART:19700329T030000
RRULE:FREQ=YEARLY;BYMONTH=3;BYDAY=-1SU
END:DAYLIGHT
BEGIN:STANDARD
TZOFFSETFROM:+0300
TZOFFSETTO:+0200
TZNAME:EET
DTSTART:19701025T040000
RRULE:FREQ=YEARLY;BYMONTH=10;BYDAY=-1SU
END:STANDARD
END:VTIMEZONE
BEGIN:VEVENT
UID:1982923:Event:244159
DTSTAMP:20260422T185230Z
SUMMARY:Blues Cargo live at Lazy Club Σάββατο 11 Ιουνίου
DESCRIPTION:Μία blues βραδιά με τους BLUES CARGO, τη
  πιο αυθεντική Chicago Blues Band της Αθηναϊκή
 ς σκηνής.Μία βραδιά με Chicago-Funky-Soul-Blues Stan
 dards αλλά δικές τους συνθέσεις από το CD 
 Delayed Delivery” που απέσπασε της καλύτερε
  κριτικές από το μεγαλύτερο διεθνές π
 ριοδικό “BLUES REVIEW”, καθώς και οπό το νέ
 ο CD “On Time” που κυκλοφόρησε στό τέλος τ
 ου Μάη  www.bluescargo.gr https://www.facebook.com/pages/Blues
 -Cargo/177978408948832\n\nFor more information visit https://blues.gr/
 events/blues-cargo-live-at-lazy-club-11
DTSTART;TZID=Europe/Athens:20160611T223000
DTEND;TZID=Europe/Athens:20160612T013000
CATEGORIES:chicago, high, energy, funky, blues
LOCATION:LAZY Club
WEBSITE:http://www.lazy.gr/
URL:http://www.lazy.gr/
CONTACT:210  6895535
ORGANIZER;CN="Dimitris Ioannou":https://blues.gr/profile/DimitrisIoann
 ou
ATTACH;FMTTYPE="image/jpeg":http://storage.ning.com/topology/rest/1.0/
 file/get/2253047037?profile=original
ATTENDEE;ROLE=REQ-PARTICIPANT;PARTSTAT=ACCEPTED;RSVP=TRUE;CN="Dimitris
  Ioannou":https://blues.gr/profile/DimitrisIoannou
ATTENDEE;ROLE=REQ-PARTICIPANT;PARTSTAT=TENTATIVE;RSVP=TRUE;CN="Giusepp
 e Sanzi":https://blues.gr/profile/GiuseppeSanzi
END:VEVENT
END:VCALENDAR
