BEGIN:VCALENDAR
PRODID:NingEventWidget-v1
VERSION:2.0
METHOD:PUBLISH
BEGIN:VTIMEZONE
TZID:Europe/Athens
X-LIC-LOCATION:Europe/Athens
BEGIN:DAYLIGHT
TZOFFSETFROM:+0200
TZOFFSETTO:+0300
TZNAME:EEST
DTSTART:19700329T030000
RRULE:FREQ=YEARLY;BYMONTH=3;BYDAY=-1SU
END:DAYLIGHT
BEGIN:STANDARD
TZOFFSETFROM:+0300
TZOFFSETTO:+0200
TZNAME:EET
DTSTART:19701025T040000
RRULE:FREQ=YEARLY;BYMONTH=10;BYDAY=-1SU
END:STANDARD
END:VTIMEZONE
BEGIN:VEVENT
UID:1982923:Event:210114
DTSTAMP:20260423T074744Z
SUMMARY:Blues Cargo Live at LAZY Club Σάββατο 20 Σεπτεμβ
 ρίου
DESCRIPTION:\nBlues Cargo Live at LAZY Club Σάββατο 20 Σεπτ
 εμβρίου\nΣΑΒΒΑΤΟ 20 ΣΕΠΤΕΜΒΡΙΟΥ\n10:30 ΜΜ\n
                                    
    στο LAZY    \n                       
         THΛ   210  6895535     \n          
                                \nΜί
  blues βραδιά με τους BLUES CARGO, την πιο αυθε
 ντική Chicago Blues Band της Αθηναϊκής σκηνής.\
 nΜία βραδιά με Chicago-Funky-Soul-Blues Standards αλλά 
 δικές τους συνθέσεις από το καινούριο 
 CD Delayed Delivery που απέσπασε της καλύτερες 
 κριτικές από το μεγαλύτερο διεθνές πε
 ιοδικό “BLUES REVIEW”.\n. Μια μπάντα με 25 χρ
 νια ζωής, πολύτιμες εμπειρίες και από
 υτη αίσθηση της φόρμας και του ήθους τ
 ου μπλουζ που στην μακρόχρονη πορεία τ
 ης έχει συνοδεύσει μουσικούς σαν τον Gu
 itar Shorty, U.P Wilson, Louisiana Red, Lurrie Bell, Big Time Sarah, E
 ddie C. Campbell, Lefty Dizz, Angela Brown, Lovie Lee, Byther Smith, J
 ean Caroll, Maxine Howard, Blind Mississippi Morris, Sweet Betty, Jimm
 y Morello , Nellie Tiger Travis , Jolly Jumper and Big Moe , Michael D
 otson,Janice Harrington, Matthew Skoller.\nΣτέλιος Ζαφειρ
 ίου - κιθάρα, Δημήτρης Ιωάννου- μπάσσο, 
 τραγούδι, Μπάμπης Τσιλιβίγκος-σαξόφων
 ο,Γιώργος Λαγογιάννης -πλήκτρα και Τόλ
 ης Γούλας-ντραμς.\n                  
        www.bluescargo.gr      https://www.facebook.com/pa
 ges/Blues-Cargo/177978408948832\n \n \n\nFor more information visit 
 https://blues.gr/events/blues-cargo-live-at-lazy-club-20
DTSTART;TZID=Europe/Athens:20140920T223000
DTEND;TZID=Europe/Athens:20140921T013000
CATEGORIES:high, energy, chicago, funky, blues
LOCATION:LAZY Club
WEBSITE:http://www.lazy.gr/
URL:http://www.lazy.gr/
CONTACT:210  6895535
ORGANIZER;CN="Dimitris Ioannou":https://blues.gr/profile/DimitrisIoann
 ou
ATTACH;FMTTYPE="image/jpeg":http://storage.ning.com/topology/rest/1.0/
 file/get/2252936828?profile=original
ATTENDEE;ROLE=REQ-PARTICIPANT;PARTSTAT=ACCEPTED;RSVP=TRUE;CN="Dionisis
  Bilalis":https://blues.gr/profile/DionisisBilalis
ATTENDEE;ROLE=REQ-PARTICIPANT;PARTSTAT=ACCEPTED;RSVP=TRUE;CN="Dimitris
  Ioannou":https://blues.gr/profile/DimitrisIoannou
END:VEVENT
END:VCALENDAR
