BEGIN:VCALENDAR
PRODID:NingEventWidget-v1
VERSION:2.0
METHOD:PUBLISH
BEGIN:VTIMEZONE
TZID:Europe/Athens
X-LIC-LOCATION:Europe/Athens
BEGIN:DAYLIGHT
TZOFFSETFROM:+0200
TZOFFSETTO:+0300
TZNAME:EEST
DTSTART:19700329T030000
RRULE:FREQ=YEARLY;BYMONTH=3;BYDAY=-1SU
END:DAYLIGHT
BEGIN:STANDARD
TZOFFSETFROM:+0300
TZOFFSETTO:+0200
TZNAME:EET
DTSTART:19701025T040000
RRULE:FREQ=YEARLY;BYMONTH=10;BYDAY=-1SU
END:STANDARD
END:VTIMEZONE
BEGIN:VEVENT
UID:1982923:Event:201046
DTSTAMP:20260423T121139Z
SUMMARY:Blues cargo live at Life Jazzy Bar
DESCRIPTION:Μία blues βραδιά με τους BLUES CARGO, τη
  πιο αυθεντική Chicago Blues Band της Αθηναϊκή
 ς σκηνής.\nΜία βραδιά με Chicago-high energy Funky-S
 oul-Blues Standards αλλά και δικές τους συνθέσε
 ις από το παλιό τους LP “First Delivery” και τ
 ο καινούριο CD Delayed Delivery που απέσπασε τη
 ς καλύτερες κριτικές από το μεγαλύτερ
  διεθνές περιοδικό “BLUES REVIEW”.\n. Μια μπ
 άντα με 26 χρόνια ζωής, πολύτιμες εμπει
 ίες και απόλυτη αίσθηση της φόρμας κα
  του ήθους του μπλουζ που στην μακρόχρ
 ονη πορεία της έχει συνοδεύσει και περ
 ιοδεύσει με μουσικούς σαν\nτους\nGuitar Shor
 ty, U.P Wilson, Louisiana Red, Lurrie Bell, Big Time Sarah, Eddie C. C
 ampbell, Lefty Dizz, Angela Brown, Lovie Lee, Byther Smith, Jean Carol
 l, Maxine Howard, Blind Mississippi Morris, Sweet Betty, Jimmy Morello
  , Nellie Tiger Travis , Jolly Jumper and Big Moe , Michael Dotson,Jan
 ice Harrington, Matthew Skoller. ενώ έχουν «ανοίξει» 
 για τους John Mayall Bluesbreakers, Nick Gravenites / John Cipp
 olina Band, John Hammond, Fernest Arceneaux and The Thunders και Bi
 g Town Playboys.\nΣτέλιος Ζαφειρίου - κιθάρα, Δ
 ημήτρης Ιωάννου- μπάσο, τραγούδι, Μπάμ
 ης Τσιλιβίγκος-σαξόφωνο,Γιώργος Λαγο
 ιάννης -πλήκτρα και Τόλης Γούλας-ντρα
 ς.\n                           www.bluesca
 rgo.gr      https://www.facebook.com/pages/Blues-Cargo/1779784089
 48832\n \n\nFor more information visit https://blues.gr/events/blues-
 cargo-live-at-life-jazzy-bar
DTSTART;TZID=Europe/Athens:20140425T223000
DTEND;TZID=Europe/Athens:20140426T013000
CATEGORIES:chicago, high, energy, groovy, funky, blues
LOCATION:Life Jazzy Bar
WEBSITE:https://www.facebook.com/lifejazzybar?fref=ts
URL:https://www.facebook.com/lifejazzybar?fref=ts
CONTACT:210  5012448
ORGANIZER;CN="Dimitris Ioannou":https://blues.gr/profile/DimitrisIoann
 ou
ATTACH;FMTTYPE="image/jpeg":http://storage.ning.com/topology/rest/1.0/
 file/get/2252936828?profile=original
ATTENDEE;ROLE=REQ-PARTICIPANT;PARTSTAT=ACCEPTED;RSVP=TRUE;CN="Dimitris
  Ioannou":https://blues.gr/profile/DimitrisIoannou
END:VEVENT
END:VCALENDAR
