BEGIN:VCALENDAR
PRODID:NingEventWidget-v1
VERSION:2.0
METHOD:PUBLISH
BEGIN:VTIMEZONE
TZID:Europe/Athens
X-LIC-LOCATION:Europe/Athens
BEGIN:DAYLIGHT
TZOFFSETFROM:+0200
TZOFFSETTO:+0300
TZNAME:EEST
DTSTART:19700329T030000
RRULE:FREQ=YEARLY;BYMONTH=3;BYDAY=-1SU
END:DAYLIGHT
BEGIN:STANDARD
TZOFFSETFROM:+0300
TZOFFSETTO:+0200
TZNAME:EET
DTSTART:19701025T040000
RRULE:FREQ=YEARLY;BYMONTH=10;BYDAY=-1SU
END:STANDARD
END:VTIMEZONE
BEGIN:VEVENT
UID:1982923:Event:107694
DTSTAMP:20260424T125554Z
SUMMARY:Blues Cargo Live at Live Stage NAI
DESCRIPTION:L I V E  !!!\nΠΑΡΑΣΚΕΥΗ 22 ΙΟΥΛΙΟΥ   10
 :30                …”Live Stage NAI ”      
 \n        Εθνάρχου Μακαρίου 2 (περιβάλλ
 οντας χώρος το Σ.Ε.Φ)\n         ΠΕΙΡΑΙΑ
 .  (Είσοδος 10€ με ποτό, το 2ο ποτό 8€)\n 
                                    
               \n       www.nai.gr        TH
 Λ   210  4810081                         
                                  \n
 ία blues βραδιά με τους BLUES CARGO, την πιο αυ
 θεντική Chicago Blues Band της Αθηναϊκής σκηνή
 ς.\nΜία βραδιά με Funky-Soul Blues-Chicago Standards αλ
 ά δικές τους συνθέσεις από το καινούρ
 ο CD Delayed Delivery που απέσπασε τις καλύτερ
 ς κριτικές από το μεγαλύτερο διεθνές 
 εριοδικό “BLUES REVIEW”.\n. Μια μπάντα με 23 
 ρόνια ζωής, πολύτιμες εμπειρίες και α
 όλυτη αίσθηση της φόρμας και του ήθου
  του μπλουζ που στην μακρόχρονη πορεί
  της έχει συνοδεύσει μουσικούς σαν το
  Guitar Shorty, U.P Wilson, Louisiana Red, Lurrie Bell, Big Time Sara
 h, Eddie C. Campbell, Lefty Dizz, Angela Brown, Lovie Lee, Byther Smit
 h, Jean Caroll, Maxine Howard, Blind Mississippi Morris, Sweet Betty, 
 Jimmy Morello , Nellie Tiger Travis , Jolly Jumper and Big Moe , Micha
 el Dotson.\nΣτέλιος Ζαφειρίου - κιθάρα, Δημή
 τρης Ιωάννου- μπάσσο, τραγούδι, Μπάμπη
  Τσιλιβίγκος-σαξόφωνο,Γιώργος Λαγογι
 ννης -πλήκτρα και Πέτρος Δακτυλίδης-ν
 ραμς.\n \nwww.bluescargo.gr www.myspace.com/bluescargo\n  email
 : zaf@. bluescargo gr. email:ioan@ bluescargo.gr\n\nFor more informati
 on visit https://blues.gr/events/blues-cargo-live-at-live-stage
DTSTART;TZID=Europe/Athens:20110722T223000
DTEND;TZID=Europe/Athens:20110723T013000
CATEGORIES:blues, live
LOCATION:”Live Stage NAI ”
WEBSITE:
URL:
CONTACT:210  4810081
ORGANIZER;CN="Dimitris Ioannou":https://blues.gr/profile/DimitrisIoann
 ou
ATTACH;FMTTYPE="image/jpeg":http://storage.ning.com/topology/rest/1.0/
 file/get/2252936828?profile=original
ATTENDEE;ROLE=REQ-PARTICIPANT;PARTSTAT=ACCEPTED;RSVP=TRUE;CN="jim K":h
 ttps://blues.gr/profile/jimpanagou
ATTENDEE;ROLE=REQ-PARTICIPANT;PARTSTAT=ACCEPTED;RSVP=TRUE;CN="Dimitris
  Ioannou":https://blues.gr/profile/DimitrisIoannou
ATTENDEE;ROLE=REQ-PARTICIPANT;PARTSTAT=TENTATIVE;RSVP=TRUE;CN=MALIAS:h
 ttps://blues.gr/profile/MALIAS
END:VEVENT
END:VCALENDAR
