BEGIN:VCALENDAR
PRODID:NingEventWidget-v1
VERSION:2.0
METHOD:PUBLISH
BEGIN:VTIMEZONE
TZID:Europe/Athens
X-LIC-LOCATION:Europe/Athens
BEGIN:DAYLIGHT
TZOFFSETFROM:+0200
TZOFFSETTO:+0300
TZNAME:EEST
DTSTART:19700329T030000
RRULE:FREQ=YEARLY;BYMONTH=3;BYDAY=-1SU
END:DAYLIGHT
BEGIN:STANDARD
TZOFFSETFROM:+0300
TZOFFSETTO:+0200
TZNAME:EET
DTSTART:19701025T040000
RRULE:FREQ=YEARLY;BYMONTH=10;BYDAY=-1SU
END:STANDARD
END:VTIMEZONE
BEGIN:VEVENT
UID:1982923:Event:253903
DTSTAMP:20260422T071631Z
SUMMARY:Blues Cargo Live at Orfeas Cafe Bar Resaurant
DESCRIPTION:Μία blues βραδιά με τους BLUES CARGO, τη
  πιο αυθεντική Chicago Blues Band της Αθηναϊκή
 ς σκηνής, με Chicago-Funky-Soul-Blues Standards αλλά κα
 ι δικές τους συνθέσεις από το καινούρι
 ο CD Delayed Delivery που απέσπασε της καλύτερε
 ς κριτικές από το μεγαλύτερο διεθνές π
 εριοδικό “BLUES REVIEW”.\nΔεν είναι υπερβολ
 ή να υποστηρίξει κάποιος ότι οι BLUES CARGO
  βρίσκονται σήμερα πιο κοντά στον αυθε
 ντικό ήχο του Σικάγο από αρκετές μπάν
 τες που δραστηριοποιούνται στο ίδιο τ
  Σικάγο.\n \n  Μια μπάντα με 29 χρόνια ζ
 ής, πολύτιμες εμπειρίες και απόλυτη α
 σθηση της φόρμας και του ήθους του μπλ
 ουζ που στην μακρόχρονη πορεία της έχε
 ι συνοδεύσει μουσικούς σαν τον Guitar Shorty
 , U.P Wilson, Louisiana Red, Lurrie Bell, Big Time Sarah, Eddie C. Cam
 pbell, Lefty Dizz, Angela Brown, Lovie Lee, Byther Smith, Jean Caroll,
  Maxine Howard, Blind Mississippi Morris, Sweet Betty, Jimmy Morello ,
  Nellie Tiger Travis , Jolly Jumper and Big Moe , Michael Dotson,Janic
 e Harrington, Matthew Skoller.\n Δημήτρης Ιωάννου- μ
 άσο & τραγούδι, Στέλιος Ζαφειρίου - κιθ
 άρα,  Μπάμπης Τσιλιβίγκος-σαξόφωνο,Γι
 ργος Λαγογιάννης -πλήκτρα και Πέτρος 
 ακτυλίδης-ντραμς.\n(special guest Νίκος Σκια
 όπουλος harp) www.bluescargo.gr      https://www.faceboo
 k.com/pages/Blues-Cargo/177978408948832\n \n\n\nFor more information 
 visit https://blues.gr/events/blues-cargo-live-at-orfeas-cafe-bar-resa
 urant
DTSTART;TZID=Europe/Athens:20170211T220000
DTEND;TZID=Europe/Athens:20170212T010000
CATEGORIES:chicago, high, energy, funky, blues
LOCATION:Orfeas Cafe Bar Resaurant
WEBSITE:https://www.facebook.com/orfeas.cafe/
URL:https://www.facebook.com/orfeas.cafe/
CONTACT:2108668544
ORGANIZER;CN="Dimitris Ioannou":https://blues.gr/profile/DimitrisIoann
 ou
ATTACH;FMTTYPE="image/jpeg":http://storage.ning.com/topology/rest/1.0/
 file/get/2253053774?profile=original
ATTENDEE;ROLE=REQ-PARTICIPANT;PARTSTAT=ACCEPTED;RSVP=TRUE;CN="Dimitris
  Ioannou":https://blues.gr/profile/DimitrisIoannou
END:VEVENT
END:VCALENDAR
