BEGIN:VCALENDAR
PRODID:NingEventWidget-v1
VERSION:2.0
METHOD:PUBLISH
BEGIN:VTIMEZONE
TZID:Europe/Athens
X-LIC-LOCATION:Europe/Athens
BEGIN:DAYLIGHT
TZOFFSETFROM:+0200
TZOFFSETTO:+0300
TZNAME:EEST
DTSTART:19700329T030000
RRULE:FREQ=YEARLY;BYMONTH=3;BYDAY=-1SU
END:DAYLIGHT
BEGIN:STANDARD
TZOFFSETFROM:+0300
TZOFFSETTO:+0200
TZNAME:EET
DTSTART:19701025T040000
RRULE:FREQ=YEARLY;BYMONTH=10;BYDAY=-1SU
END:STANDARD
END:VTIMEZONE
BEGIN:VEVENT
UID:1982923:Event:266596
DTSTAMP:20260422T083651Z
SUMMARY:Blues Cargo live at Orfeas Bar Cafe Restaurant opening act unH
 ealthy Blues
DESCRIPTION:Μία blues βραδιά μετους BLUESCARGO, την 
 πιο αυθεντική Chicago Blues Band της Αθηναϊκής
  σκηνής. Μία βραδιά με Chicago-Funky-Soul-BluesStanda
 rds αλλά και δικές τους συνθέσεις . Μια μ
 πάντα με 30 χρόνια ζωής, με πολύτιμες εμ
 πειρίες πάνω στην αίσθηση της φόρμας κ
 αι του ήθους του μπλουζ που στην μακρό
 ρονη πορεία της έχει συνοδεύσει μουσι
 κούς σαν τον GuitarShorty, U.PWilson, LouisianaRed, LurrieBe
 ll, BigTimeSarah, EddieC. Campbell, LeftyDizz, AngelaBrown, LovieLee, 
 BytherSmith, JeanCaroll, MaxineHoward, BlindMississippiMorris, SweetBe
 tty, JimmyMorello ,NellieTigerTravis , JollyJumperandBigMoe , MichaelD
 otson,JaniceHarrington, MatthewSkoller. Δημήτρης Ιωάννο
 - μπάσο, τραγούδι,Στέλιος Ζαφειρίου - κ
 ιθάρα, Μπάμπης Τσιλιβίγγος-sax, Γιώργος 
 Λαγογιάννης – Πλήκτρα, Νίκος Σκιαδόπο
 υλος - φυσαρμόνικα και Γιάννης Χριστόπ
 ουλος-ντραμς. www.bluescargo.grhttps://www.facebook.com/pag
 es/Blues-\n\n\nFor more information visit https://blues.gr/events/blue
 s-cargo-live-at-orfeas-cafe-bar-restaurant-1
DTSTART;TZID=Europe/Athens:20180608T223000
DTEND;TZID=Europe/Athens:20180609T140000
CATEGORIES:chicago, high, energy, blues
LOCATION:Orfeas Bar Cafe Restaurant.
WEBSITE:https://www.facebook.com/orfeas.cafe/
URL:https://www.facebook.com/orfeas.cafe/
CONTACT:21 0866 8544
ORGANIZER;CN="Dimitris Ioannou":https://blues.gr/profile/DimitrisIoann
 ou
ATTACH;FMTTYPE="image/jpeg":http://storage.ning.com/topology/rest/1.0/
 file/get/2253059758?profile=original
ATTENDEE;ROLE=REQ-PARTICIPANT;PARTSTAT=ACCEPTED;RSVP=TRUE;CN="Dimitris
  Ioannou":https://blues.gr/profile/DimitrisIoannou
END:VEVENT
END:VCALENDAR
