BEGIN:VCALENDAR
PRODID:NingEventWidget-v1
VERSION:2.0
METHOD:PUBLISH
BEGIN:VTIMEZONE
TZID:Europe/Athens
X-LIC-LOCATION:Europe/Athens
BEGIN:DAYLIGHT
TZOFFSETFROM:+0200
TZOFFSETTO:+0300
TZNAME:EEST
DTSTART:19700329T030000
RRULE:FREQ=YEARLY;BYMONTH=3;BYDAY=-1SU
END:DAYLIGHT
BEGIN:STANDARD
TZOFFSETFROM:+0300
TZOFFSETTO:+0200
TZNAME:EET
DTSTART:19701025T040000
RRULE:FREQ=YEARLY;BYMONTH=10;BYDAY=-1SU
END:STANDARD
END:VTIMEZONE
BEGIN:VEVENT
UID:1982923:Event:229607
DTSTAMP:20260422T230340Z
SUMMARY:Blues Cargo Live at PENTAGAM Σάββατο 31 Οκτωβρί
 υ
DESCRIPTION:Μία blues βραδιά με τους BLUES CARGO, τη
  πιο αυθεντική Chicago Blues Band της Αθηναϊκή
 ς σκηνής. Μία βραδιά με Chicago-Funky-Soul-Blues Sta
 ndards αλλά και δικές τους συνθέσεις από 
 ο καινούριο CD Delayed Delivery που απέσπασε τ
 ς καλύτερες κριτικές από το μεγαλύτερ
 ο διεθνές περιοδικό “BLUES REVIEW”. Δεν είν
 αι υπερβολή να υποστηρίξει κάποιος ότ
  οι BLUES CARGO βρίσκονται σήμερα πιο κοντά
  στον αυθεντικό ήχο του Σικάγο από αρκ
 τές μπάντες που δραστηριοποιούνται σ
 ο ίδιο το Σικάγο. Μια μπάντα με 28 χρόνι
 α ζωής, πολύτιμες εμπειρίες και απόλυτ
 η αίσθηση της φόρμας και του ήθους του 
 μπλουζ που στην μακρόχρονη πορεία της 
 έχει συνοδεύσει μουσικούς σαν τον Guitar 
 Shorty, U.P Wilson, Louisiana Red, Lurrie Bell, Big Time Sarah, Eddie 
 C. Campbell, Lefty Dizz, Angela Brown, Lovie Lee, Byther Smith, Jean C
 aroll, Maxine Howard, Blind Mississippi Morris, Sweet Betty, Jimmy Mor
 ello , Nellie Tiger Travis , Jolly Jumper and Big Moe , Michael Dotson
 ,Janice Harrington, Matthew Skoller.  Στέλιος Ζαφειρίο
  - κιθάρα, Δημήτρης Ιωάννου- μπάσο, τρα
 ούδι, Νίκος Σκιαδόπουλος-Harp, τραγούδι,
  και Πέτρος Δακτυλίδης -ντραμς.\nVERY SPECIAL
  GUESTS will appear in this gig.\nhttps://www.facebook.com/Pentagram.B
 eer.House/\n\nFor more information visit https://blues.gr/events/blues
 -cargo-live-at-pentagam-31
DTSTART;TZID=Europe/Athens:20151031T220000
DTEND;TZID=Europe/Athens:20151101T010000
CATEGORIES:chicago, funky, grooving, blues
LOCATION:PENTAGRAM
WEBSITE:https://www.facebook.com/Pentagram.Beer.House/
URL:https://www.facebook.com/Pentagram.Beer.House/
CONTACT:21 5540 5339
ORGANIZER;CN="Dimitris Ioannou":https://blues.gr/profile/DimitrisIoann
 ou
ATTACH;FMTTYPE="image/jpeg":http://storage.ning.com/topology/rest/1.0/
 file/get/2253041945?profile=original
ATTENDEE;ROLE=REQ-PARTICIPANT;PARTSTAT=ACCEPTED;RSVP=TRUE;CN="Dimitris
  Ioannou":https://blues.gr/profile/DimitrisIoannou
END:VEVENT
END:VCALENDAR
