BEGIN:VCALENDAR
PRODID:NingEventWidget-v1
VERSION:2.0
METHOD:PUBLISH
BEGIN:VTIMEZONE
TZID:Europe/Athens
X-LIC-LOCATION:Europe/Athens
BEGIN:DAYLIGHT
TZOFFSETFROM:+0200
TZOFFSETTO:+0300
TZNAME:EEST
DTSTART:19700329T030000
RRULE:FREQ=YEARLY;BYMONTH=3;BYDAY=-1SU
END:DAYLIGHT
BEGIN:STANDARD
TZOFFSETFROM:+0300
TZOFFSETTO:+0200
TZNAME:EET
DTSTART:19701025T040000
RRULE:FREQ=YEARLY;BYMONTH=10;BYDAY=-1SU
END:STANDARD
END:VTIMEZONE
BEGIN:VEVENT
UID:1982923:Event:79983
DTSTAMP:20260421T132611Z
SUMMARY:BLUES CARGO Live at ROOSTER:S WALK \"Free Entrance\"
DESCRIPTION:Μία blues βραδιά με τους BLUES CARGO, τη
  πιο αυθεντική Chicago Blues Band της Αθηναϊκή
 ς σκηνής. Μια μπάντα με 22 χρόνια ζωής, π
 ολύτιμες εμπειρίες και απόλυτη αίσθησ
 η της φόρμας και του ήθους του μπλουζ, 
 ου δημιουργήθηκε στα 1987 από τέσσερις 
 ουσικούς, ενωμένους με την κοινή τους 
 αγάπη για τα μπλουζ, τους Σ. Ζαφειρίου, 
 Δ.Ιωάννου, Σ. Ζούζουλα και Σ. Γαβριηλίδ
 .\nΣτην μακρόχρονη πορεία τους έχουν σ
 νοδεύσει μουσικούς σαν τον Guitar Shorty, U.P 
 Wilson, Louisiana Red, Lurrie Bell, Big Time Sarah, Eddie C. Campbell,
  Lefty Dizz, Angela Brown, Lovie Lee, Byther Smith, Jean Caroll, Maxin
 e Howard, Blind Mississippi Morris, Sweet Betty, Jimmy Morello , Nelli
 e Tiger Travis , Jolly Jumper and Big Moe.\nH τωρινή σύνθε
 ή τους περιλαμβάνει τους Στέλιο Ζαφει
 ρίου - κιθάρα, Δημήτρη Ιωάννου- μπάσσο, 
 τραγούδι, Μπάμπη Τσιλιβίγκο & Δημήτρη 
 άλτη-σαξόφωνο, Ορέστη Βαβίτσα-πλήκτρα
  και Πέτρο Δακτυλίδη-ντραμς.\nΣε αυτό τ
  Live θα έχετε την ευκαιρία να ακούσετε 
 ικές τους συνθέσεις από το καινούριο C
 D Delayed Delivery καθώς και αρκετές διασκευές
  γνωστών καλλιτεχνών.\n\nFor more information visit 
 https://blues.gr/events/blues-cargo-live-at-roosters-2
DTSTART;TZID=Europe/Athens:20101204T230000
DTEND;TZID=Europe/Athens:20101205T030000
CATEGORIES:blues, gig
LOCATION:ΑΘΗΝΑ ΚΕΝΤΡΟ
WEBSITE:
URL:
CONTACT:THΛ   210  3224410
ORGANIZER;CN="Dimitris Ioannou":https://blues.gr/profile/DimitrisIoann
 ou
ATTACH;FMTTYPE="image/jpeg":http://storage.ning.com/topology/rest/1.0/
 file/get/2252945393?profile=original
ATTENDEE;ROLE=REQ-PARTICIPANT;PARTSTAT=ACCEPTED;RSVP=TRUE;CN="Tsiamtsi
 kas Nikolaos":https://blues.gr/profile/TsiamtsikasNikolaos
ATTENDEE;ROLE=REQ-PARTICIPANT;PARTSTAT=ACCEPTED;RSVP=TRUE;CN="Giannis 
 Pachidis":https://blues.gr/profile/ioannis
ATTENDEE;ROLE=REQ-PARTICIPANT;PARTSTAT=ACCEPTED;RSVP=TRUE;CN="dimitrio
 s doulgeridis":https://blues.gr/profile/dimitriosdoulgeridis
ATTENDEE;ROLE=REQ-PARTICIPANT;PARTSTAT=ACCEPTED;RSVP=TRUE;CN="Dimitris
  Ioannou":https://blues.gr/profile/DimitrisIoannou
ATTENDEE;ROLE=REQ-PARTICIPANT;PARTSTAT=TENTATIVE;RSVP=TRUE;CN="Small B
 lues Trap":https://blues.gr/profile/SmallBluesTrap
ATTENDEE;ROLE=REQ-PARTICIPANT;PARTSTAT=TENTATIVE;RSVP=TRUE;CN="tony do
 llaro":https://blues.gr/profile/tonydollaro
ATTENDEE;ROLE=REQ-PARTICIPANT;PARTSTAT=TENTATIVE;RSVP=TRUE;CN="Antonis
  Kanaris":https://blues.gr/profile/AntonisKanaris
ATTENDEE;ROLE=REQ-PARTICIPANT;PARTSTAT=TENTATIVE;RSVP=TRUE;CN="JOHN AN
 GELATOS-Red Rooster Prod.":https://blues.gr/profile/JohnAngelatos
END:VEVENT
END:VCALENDAR
