BEGIN:VCALENDAR
PRODID:NingEventWidget-v1
VERSION:2.0
METHOD:PUBLISH
BEGIN:VTIMEZONE
TZID:Europe/Athens
X-LIC-LOCATION:Europe/Athens
BEGIN:DAYLIGHT
TZOFFSETFROM:+0200
TZOFFSETTO:+0300
TZNAME:EEST
DTSTART:19700329T030000
RRULE:FREQ=YEARLY;BYMONTH=3;BYDAY=-1SU
END:DAYLIGHT
BEGIN:STANDARD
TZOFFSETFROM:+0300
TZOFFSETTO:+0200
TZNAME:EET
DTSTART:19701025T040000
RRULE:FREQ=YEARLY;BYMONTH=10;BYDAY=-1SU
END:STANDARD
END:VTIMEZONE
BEGIN:VEVENT
UID:1982923:Event:219380
DTSTAMP:20260421T154408Z
SUMMARY:Blues Cargo Live at Route 32, Σάββατο 28 Φεβρουα
 ρίου 10:30
DESCRIPTION:Μία blues βραδιά με τους BLUES CARGO, τη
  πιο αυθεντική Chicago Blues Band της Αθηναϊκή
 ς σκηνής,με Chicago-Funky-Soul-Blues Standards αλλά κα
  δικές τους συνθέσεις από το καινούρι
  CD Delayed Delivery που απέσπασε της καλύτερε
  κριτικές από το μεγαλύτερο διεθνές π
 ριοδικό “BLUES REVIEW”.\n  Δεν είναι υπερβο
 λή να υποστηρίξει κάποιος ότι οι BLUES CAR
 GO βρίσκονται σήμερα πιο κοντά στον αυθ
 εντικό ήχο του Σικάγο από αρκετές μπά
 ντες που δραστηριοποιούνται στο ίδιο 
 ο Σικάγο.\n Μια μπάντα με 28 χρόνια ζωή
 , πολύτιμες εμπειρίες και απόλυτη αίσ
 ηση της φόρμας και του ήθους του μπλου
 ζ που στην μακρόχρονη πορεία της έχει 
 υνοδεύσει μουσικούς σαν τον Guitar Shorty, U.
 P Wilson, Louisiana Red, Lurrie Bell, Big Time Sarah, Eddie C. Campbel
 l, Lefty Dizz, Angela Brown, Lovie Lee, Byther Smith, Jean Caroll, Max
 ine Howard, Blind Mississippi Morris, Sweet Betty, Jimmy Morello , Nel
 lie Tiger Travis , Jolly Jumper and Big Moe , Michael Dotson,Janice Ha
 rrington, Matthew Skoller.\nΣτέλιος Ζαφειρίου - κιθ
 άρα, Δημήτρης Ιωάννου- μπάσο, τραγούδι,
  Νίκος Σκιαδόπουλος-Φυσαρμόνικα, τραγ
 ύδι και Πέτρος Δακτυλίδης-ντραμς.\n   
                       www.bluescargo.gr    
           https://www.facebook.com/pages/Blues-Cargo/1779784
 08948832\n \n \n\nFor more information visit https://blues.gr/events
 /blues-cargo-live-at-rout-32-28-10-30
DTSTART;TZID=Europe/Athens:20150228T223000
DTEND;TZID=Europe/Athens:20150329T013000
CATEGORIES:chicago, funky, grooving, blues
LOCATION:ROUT 32
WEBSITE:https://www.facebook.com/Route32Rocknblues?fref=ts
URL:https://www.facebook.com/Route32Rocknblues?fref=ts
CONTACT:
ORGANIZER;CN="Dimitris Ioannou":https://blues.gr/profile/DimitrisIoann
 ou
ATTACH;FMTTYPE="image/jpeg":http://storage.ning.com/topology/rest/1.0/
 file/get/2252934315?profile=original
ATTENDEE;ROLE=REQ-PARTICIPANT;PARTSTAT=ACCEPTED;RSVP=TRUE;CN="Dimitris
  Ioannou":https://blues.gr/profile/DimitrisIoannou
ATTENDEE;ROLE=REQ-PARTICIPANT;PARTSTAT=TENTATIVE;RSVP=TRUE;CN="JOHN AN
 GELATOS-Red Rooster Prod.":https://blues.gr/profile/JohnAngelatos
END:VEVENT
END:VCALENDAR
