BEGIN:VCALENDAR
PRODID:NingEventWidget-v1
VERSION:2.0
METHOD:PUBLISH
BEGIN:VTIMEZONE
TZID:Europe/Athens
X-LIC-LOCATION:Europe/Athens
BEGIN:DAYLIGHT
TZOFFSETFROM:+0200
TZOFFSETTO:+0300
TZNAME:EEST
DTSTART:19700329T030000
RRULE:FREQ=YEARLY;BYMONTH=3;BYDAY=-1SU
END:DAYLIGHT
BEGIN:STANDARD
TZOFFSETFROM:+0300
TZOFFSETTO:+0200
TZNAME:EET
DTSTART:19701025T040000
RRULE:FREQ=YEARLY;BYMONTH=10;BYDAY=-1SU
END:STANDARD
END:VTIMEZONE
BEGIN:VEVENT
UID:1982923:Event:249194
DTSTAMP:20260422T120857Z
SUMMARY:Blues Cargo Live at Whisper
DESCRIPTION:Μία blues βραδιά με τους BLUES CARGO, τη
  πιο αυθεντική Chicago Blues Band της Αθηναϊκή
 ς σκηνής.\nΜία βραδιά με Chicago-Funky-Soul-Blues St
 andards αλλά δικές τους συνθέσεις .\n Μια μ
 πάντα με 25 χρόνια ζωής, και πολύτιμες ε
 μπειρίες πάνω στην αίσθηση της φόρμας 
 και του ήθους του μπλουζ που στην μακρ
 χρονη πορεία της έχει συνοδεύσει μουσ
 ικούς σαν τον Guitar Shorty, U.P Wilson, Louisiana Red, Lur
 rie Bell, Big Time Sarah, Eddie C. Campbell, Lefty Dizz, Angela Brown,
  Lovie Lee, Byther Smith, Jean Caroll, Maxine Howard, Blind Mississipp
 i Morris, Sweet Betty, Jimmy Morello , Nellie Tiger Travis , Jolly Jum
 per and Big Moe , Michael Dotson,Janice Harrington, Matthew Skoller.\n
 \nΣτο live θα είναι διαθέσιμο και το καιν
 ύριο CD των Blues Cargo \" ON TIME\" Με το πλήρες 
 νθετο!!\n\n               www.bluescargo.gr   
            https://www.facebook.com/pages/Blues-Cargo/17797
 8408948832\n\nFor more information visit https://blues.gr/events/blues
 -cargo-live-at-whisper
DTSTART;TZID=Europe/Athens:20161126T220000
DTEND;TZID=Europe/Athens:20161127T130000
CATEGORIES:chicago, funky, soulful, high, energy, blues
LOCATION:WHISPER
WEBSITE:https://www.facebook.com/Whisper-All-day-cocktail-bar-44044488
 2778992/
URL:https://www.facebook.com/Whisper-All-day-cocktail-bar-440444882778
 992/
CONTACT:694 598 0361
ORGANIZER;CN="Dimitris Ioannou":https://blues.gr/profile/DimitrisIoann
 ou
ATTACH;FMTTYPE="image/jpeg":http://storage.ning.com/topology/rest/1.0/
 file/get/2253051406?profile=original
ATTENDEE;ROLE=REQ-PARTICIPANT;PARTSTAT=ACCEPTED;RSVP=TRUE;CN="Dimitris
  Ioannou":https://blues.gr/profile/DimitrisIoannou
END:VEVENT
END:VCALENDAR
