BEGIN:VCALENDAR
PRODID:NingEventWidget-v1
VERSION:2.0
METHOD:PUBLISH
BEGIN:VTIMEZONE
TZID:Europe/Athens
X-LIC-LOCATION:Europe/Athens
BEGIN:DAYLIGHT
TZOFFSETFROM:+0200
TZOFFSETTO:+0300
TZNAME:EEST
DTSTART:19700329T030000
RRULE:FREQ=YEARLY;BYMONTH=3;BYDAY=-1SU
END:DAYLIGHT
BEGIN:STANDARD
TZOFFSETFROM:+0300
TZOFFSETTO:+0200
TZNAME:EET
DTSTART:19701025T040000
RRULE:FREQ=YEARLY;BYMONTH=10;BYDAY=-1SU
END:STANDARD
END:VTIMEZONE
BEGIN:VEVENT
UID:1982923:Event:47009
DTSTAMP:20260422T110244Z
SUMMARY:Blues Cargo Live at Ypogio Boheme
DESCRIPTION:Μία blues βραδιά με τους BLUES CARGO, τη
  πιο αυθεντική Chicago Blues Band της Αθηναϊκή
 ς σκηνής. Μια μπάντα με 21 χρόνια ζωής, π
 ολύτιμες εμπειρίες και απόλυτη αίσθησ
 η της φόρμας και του ήθους του μπλουζ, 
 ου δημιουργήθηκε στα 1987 από τέσσερις 
 ουσικούς, ενωμένους με την κοινή τους 
 αγάπη για τα μπλουζ, τους Σ. Ζαφειρίου, 
 Δ.Ιωάννου, Σ. Ζούζουλα και Σ. Γαβριηλίδ
 .\nΣτην μακρόχρονη πορεία τους έχουν σ
 νοδεύσει μουσικούς σαν τον Guitar Shorty, U.P 
 Wilson, Louisiana Red, Lurrie Bell, Big Time Sarah, Eddie C. Campbell,
  Lefty Dizz, Angela Brown, Lovie Lee, Byther Smith, Jean Caroll, Maxin
 e Howard, Blind Mississippi Morris, Sweet Betty, Jimmy Morello , Nelli
 e Tiger Travis , Jolly Jumper and Big Moe.\nH τωρινή σύνθε
 ή τους περιλαμβάνει τους Στέλιο Ζαφει
 ρίου - κιθάρα, Δημήτρη Ιωάννου- μπάσσο, 
 τραγούδι, Δημήτρη Ψάλτη-σαξόφωνο, Γιώρ
 γο Λαγογιάννη-πλήκτρα και Πέτρο Δακτυ
 ίδη-ντραμς.\nΣε αυτό το Live θα έχετε την 
 ευκαιρία να ακούσετε δικές τους συνθέ
 εις από το καινούριο CD Delayed Delivery καθώς 
 και αρκετές διασκευές γνωστών καλλιτε
 χνών.\n\nFor more information visit https://blues.gr/events/blues-
 cargo-live-at-ypogio
DTSTART;TZID=Europe/Athens:20100327T230000
DTEND;TZID=Europe/Athens:20100328T140000
CATEGORIES:high, energy, blues, gig
LOCATION:Emporiko Kentro Heliotropio Helioupolis
WEBSITE:
URL:
CONTACT:210 9958404
ORGANIZER;CN="Dimitris Ioannou":https://blues.gr/profile/DimitrisIoann
 ou
ATTACH;FMTTYPE="image/jpeg":http://storage.ning.com/topology/rest/1.0/
 file/get/2252939051?profile=original
ATTENDEE;ROLE=REQ-PARTICIPANT;PARTSTAT=ACCEPTED;RSVP=TRUE;CN=MALIAS:ht
 tps://blues.gr/profile/MALIAS
ATTENDEE;ROLE=REQ-PARTICIPANT;PARTSTAT=ACCEPTED;RSVP=TRUE;CN="Giannis 
 Pachidis":https://blues.gr/profile/ioannis
ATTENDEE;ROLE=REQ-PARTICIPANT;PARTSTAT=ACCEPTED;RSVP=TRUE;CN="Dimitris
  Ioannou":https://blues.gr/profile/DimitrisIoannou
END:VEVENT
END:VCALENDAR
