BEGIN:VCALENDAR
PRODID:NingEventWidget-v1
VERSION:2.0
METHOD:PUBLISH
BEGIN:VTIMEZONE
TZID:Europe/Athens
X-LIC-LOCATION:Europe/Athens
BEGIN:DAYLIGHT
TZOFFSETFROM:+0200
TZOFFSETTO:+0300
TZNAME:EEST
DTSTART:19700329T030000
RRULE:FREQ=YEARLY;BYMONTH=3;BYDAY=-1SU
END:DAYLIGHT
BEGIN:STANDARD
TZOFFSETFROM:+0300
TZOFFSETTO:+0200
TZNAME:EET
DTSTART:19701025T040000
RRULE:FREQ=YEARLY;BYMONTH=10;BYDAY=-1SU
END:STANDARD
END:VTIMEZONE
BEGIN:VEVENT
UID:1982923:Event:55069
DTSTAMP:20260420T160804Z
SUMMARY:Blues Cargo Live @ Bacaro opening act Blues Therapy with Boris
  Voutsinos Voc.& Harp.
DESCRIPTION:Μία blues βραδιά με τους BLUES CARGO, τη
  πιο αυθεντική Chicago Blues Band της Αθηναϊκή
 ς σκηνής. Μια μπάντα με 21 χρόνια ζωής, π
 ολύτιμες εμπειρίες και απόλυτη αίσθησ
 η της φόρμας και του ήθους του μπλουζ, 
 ου δημιουργήθηκε στα 1987 από τέσσερις 
 ουσικούς, ενωμένους με την κοινή τους 
 αγάπη για τα μπλουζ, τους Σ. Ζαφειρίου, 
 Δ.Ιωάννου, Σ. Ζούζουλα και Σ. Γαβριηλίδ
 .\nΣτην μακρόχρονη πορεία τους έχουν σ
 νοδεύσει μουσικούς σαν τον Guitar Shorty, U.P 
 Wilson, Louisiana Red, Lurrie Bell, Big Time Sarah, Eddie C. Campbell,
  Lefty Dizz, Angela Brown, Lovie Lee, Byther Smith, Jean Caroll, Maxin
 e Howard, Blind Mississippi Morris, Sweet Betty, Jimmy Morello , Nelli
 e Tiger Travis , Jolly Jumper and Big Moe.\nH τωρινή σύνθε
 ή τους περιλαμβάνει τους Στέλιο Ζαφει
 ρίου - κιθάρα, Δημήτρη Ιωάννου- μπάσσο, 
 τραγούδι,Δημήτρη Ψάλτη-σαξόφωνο,Γιώργ
 ο Λαλογιάννη-πλήκτρα και Πέτρο Δακτυλ
 δη-ντραμς.\nΣε αυτό το Live θα έχετε την ε
 υκαιρία να ακούσετε δικές τους συνθέσ
 ις από το καινούριο CD Delayed Delivery καθώς κ
 αι αρκετές διασκευές γνωστών καλλιτεχ
 νών.\n\nFor more information visit https://blues.gr/events/blues-ca
 rgo-live-bacaro
DTSTART;TZID=Europe/Athens:20100518T220000
DTEND;TZID=Europe/Athens:20100519T013000
CATEGORIES:high, energy, chicago, funky, blues, gig
LOCATION:Bacaro club bar live resturant.Athens down town
WEBSITE:
URL:
CONTACT:210 3211882
ORGANIZER;CN="Dimitris Ioannou":https://blues.gr/profile/DimitrisIoann
 ou
ATTACH;FMTTYPE="image/jpeg":http://storage.ning.com/topology/rest/1.0/
 file/get/2252944618?profile=original
ATTENDEE;ROLE=REQ-PARTICIPANT;PARTSTAT=ACCEPTED;RSVP=TRUE;CN="tony dol
 laro":https://blues.gr/profile/tonydollaro
ATTENDEE;ROLE=REQ-PARTICIPANT;PARTSTAT=ACCEPTED;RSVP=TRUE;CN="Dimitris
  Ioannou":https://blues.gr/profile/DimitrisIoannou
END:VEVENT
END:VCALENDAR
