BEGIN:VCALENDAR
PRODID:NingEventWidget-v1
VERSION:2.0
METHOD:PUBLISH
BEGIN:VTIMEZONE
TZID:Europe/Athens
X-LIC-LOCATION:Europe/Athens
BEGIN:DAYLIGHT
TZOFFSETFROM:+0200
TZOFFSETTO:+0300
TZNAME:EEST
DTSTART:19700329T030000
RRULE:FREQ=YEARLY;BYMONTH=3;BYDAY=-1SU
END:DAYLIGHT
BEGIN:STANDARD
TZOFFSETFROM:+0300
TZOFFSETTO:+0200
TZNAME:EET
DTSTART:19701025T040000
RRULE:FREQ=YEARLY;BYMONTH=10;BYDAY=-1SU
END:STANDARD
END:VTIMEZONE
BEGIN:VEVENT
UID:1982923:Event:264686
DTSTAMP:20260421T075133Z
SUMMARY:Blues Cargo live στο Cine Studio
DESCRIPTION:οι Blues Cargo liveΣάββατο 14 Απριλίου 
 το Cine StudioMία αξέχαστη ξεχωριστή βραδι
  με τους BLUES CARGO, την πιο αυθεντική Chicago 
 Blues Band της Ελληνικής σκηνής. Μία βραδι
  με Chicago-Funky-Soul-Blues Standards αλλά και πολλές
  δικές τους συνθέσεις από τα τρία άλμπ
 υμ τους, συμπεριλαμβανομένου του Delayed 
 Delivery (2009) που απέσπασε της καλύτερες κρ
 ιτικές από το μεγαλύτερο Αμερικανικό 
 εριοδικό με διεθνές κύρος, το “BLUES REVIEW
 ” αλλά και του πρόσφατου «Οn Time” που ε
 ίσεις απέσπασε εξαιρετικές κριτικές 
 πό το Αμερικανικό περιοδικό ‘’BLUESBLAST 
 MAGAZINE”. http://www.bluesblastmagazine.com/blues-cargo-on-time-al
 bum-review/Δεν θα ήταν υπερβολή να υποστηρί
 ξει κανείς ότι οι BLUES CARGO δεν έχουν τίπο
 τε να ζηλέψουν από τις καλύτερες blues μπ
 άντες που δραστηριοποιούνται στο ίδιο
  το Σικάγο. Μια μπάντα με 30 χρόνια ζωής,
  πολύτιμες εμπειρίες και απόλυτη αίσθ
 ση της φόρμας και του ήθους του μπλουζ
  που στην μακρόχρονη πορεία της έχει σ
 νοδεύσει μουσικούς σαν τον Guitar Shorty, U.P 
 Wilson, Louisiana Red, Lurrie Bell, Big Time Sarah, Eddie C. Campbell,
  Lefty Dizz, Angela Brown, Lovie Lee, Byther Smith, Jean Caroll, Maxin
 e Howard, Blind Mississippi Morris, Sweet Betty, Jimmy Morello, Nellie
  Tiger Travis, Jolly Jumper and Big Moe, Michael Dotson, Janice Harrin
 gton, Matthew Skoller.Οι BLUES CARGO εμφανίζονται με 
 ην ακόλουθη σύνθεση: Στέλιος Ζαφειρί
 υ - κιθάρα, Δημήτρης Ιωάννου - μπάσο, τ
 αγούδι, Νίκος Σκιαδόπουλος-Harp, τραγού
 δι, και Πέτρος Δακτυλίδης-ντραμς.Site – 
 Fan Page: www.bluescargo.gr https://www.facebook.com/pages/Blues-Car
 go/177978408948832ώρα έναρξης 22:00Γενική είσοδο
 ς 8 ευρώΤηλ. Κρατήσεις 2810823813 - www.texnopolis.n
 et\n\nFor more information visit https://blues.gr/events/blues-cargo-l
 ive-cine-studio
DTSTART;TZID=Europe/Athens:20180414T220000
DTEND;TZID=Europe/Athens:20180415T010000
CATEGORIES:chicago, high, energy, blues
LOCATION:Cine Studio
WEBSITE:https://www.facebook.com/cinestudio.cinestudio/
URL:https://www.facebook.com/cinestudio.cinestudio/
CONTACT:281 082 3813
ORGANIZER;CN="Dimitris Ioannou":https://blues.gr/profile/DimitrisIoann
 ou
ATTACH;FMTTYPE="image/jpeg":http://storage.ning.com/topology/rest/1.0/
 file/get/2253058507?profile=original
ATTENDEE;ROLE=REQ-PARTICIPANT;PARTSTAT=ACCEPTED;RSVP=TRUE;CN="Dimitris
  Ioannou":https://blues.gr/profile/DimitrisIoannou
END:VEVENT
END:VCALENDAR
