BEGIN:VCALENDAR
PRODID:NingEventWidget-v1
VERSION:2.0
METHOD:PUBLISH
BEGIN:VTIMEZONE
TZID:Europe/Athens
X-LIC-LOCATION:Europe/Athens
BEGIN:DAYLIGHT
TZOFFSETFROM:+0200
TZOFFSETTO:+0300
TZNAME:EEST
DTSTART:19700329T030000
RRULE:FREQ=YEARLY;BYMONTH=3;BYDAY=-1SU
END:DAYLIGHT
BEGIN:STANDARD
TZOFFSETFROM:+0300
TZOFFSETTO:+0200
TZNAME:EET
DTSTART:19701025T040000
RRULE:FREQ=YEARLY;BYMONTH=10;BYDAY=-1SU
END:STANDARD
END:VTIMEZONE
BEGIN:VEVENT
UID:1982923:Event:23081
DTSTAMP:20260421T062953Z
SUMMARY:Blues Cargo Live @ Lazy Club
DESCRIPTION:There Is no description it is just the blues we are playin
 g.\n\nFor more information visit https://blues.gr/events/blues-cargo-l
 ive-lazy-club-1
DTSTART;TZID=Europe/Athens:20090411T000000
DTEND;TZID=Europe/Athens:20090411T235900
CATEGORIES:we, play, the, blues
LOCATION:Lazy Club Vrilissia
WEBSITE:
URL:
CONTACT:210-6895535
ORGANIZER;CN="Dimitris Ioannou":https://blues.gr/profile/DimitrisIoann
 ou
ATTACH;FMTTYPE="image/jpeg":http://storage.ning.com/topology/rest/1.0/
 file/get/2252937010?profile=original
ATTENDEE;ROLE=REQ-PARTICIPANT;PARTSTAT=ACCEPTED;RSVP=TRUE;CN=manos:htt
 ps://blues.gr/profile/manos
ATTENDEE;ROLE=REQ-PARTICIPANT;PARTSTAT=ACCEPTED;RSVP=TRUE;CN=MALIAS:ht
 tps://blues.gr/profile/MALIAS
ATTENDEE;ROLE=REQ-PARTICIPANT;PARTSTAT=ACCEPTED;RSVP=TRUE;CN="Dimitris
  Ioannou":https://blues.gr/profile/DimitrisIoannou
ATTENDEE;ROLE=REQ-PARTICIPANT;PARTSTAT=TENTATIVE;RSVP=TRUE;CN=miltos:h
 ttps://blues.gr/profile/miltos
END:VEVENT
END:VCALENDAR
