BEGIN:VCALENDAR
PRODID:NingEventWidget-v1
VERSION:2.0
METHOD:PUBLISH
BEGIN:VTIMEZONE
TZID:Europe/Athens
X-LIC-LOCATION:Europe/Athens
BEGIN:DAYLIGHT
TZOFFSETFROM:+0200
TZOFFSETTO:+0300
TZNAME:EEST
DTSTART:19700329T030000
RRULE:FREQ=YEARLY;BYMONTH=3;BYDAY=-1SU
END:DAYLIGHT
BEGIN:STANDARD
TZOFFSETFROM:+0300
TZOFFSETTO:+0200
TZNAME:EET
DTSTART:19701025T040000
RRULE:FREQ=YEARLY;BYMONTH=10;BYDAY=-1SU
END:STANDARD
END:VTIMEZONE
BEGIN:VEVENT
UID:1982923:Event:79810
DTSTAMP:20260421T223451Z
SUMMARY:BLUES CARGO  + LOOSE RAG LIVE AT AFTER DARK
DESCRIPTION:Μία blues βραδιά με τους BLUES CARGO, τη
  πιο αυθεντική Chicago Blues Band της Αθηναϊκή
 ς σκηνής. Μια μπάντα με 22 χρόνια ζωής, π
 ολύτιμες εμπειρίες και απόλυτη αίσθησ
 η της φόρμας και του ήθους του μπλουζ, 
 ου δημιουργήθηκε στα 1987 από τέσσερις 
 ουσικούς, ενωμένους με την κοινή τους 
 αγάπη για τα μπλουζ, τους Σ. Ζαφειρίου, 
 Δ.Ιωάννου, Σ. Ζούζουλα και Σ. Γαβριηλίδ
 .\nΣτην μακρόχρονη πορεία τους έχουν σ
 νοδεύσει μουσικούς σαν τον Guitar Shorty, U.P 
 Wilson, Louisiana Red, Lurrie Bell, Big Time Sarah, Eddie C. Campbell,
  Lefty Dizz, Angela Brown, Lovie Lee, Byther Smith, Jean Caroll, Maxin
 e Howard, Blind Mississippi Morris, Sweet Betty, Jimmy Morello , Nelli
 e Tiger Travis , Jolly Jumper and Big Moe.\nH τωρινή σύνθε
 ή τους περιλαμβάνει τους Στέλιο Ζαφει
 ρίου - κιθάρα, Δημήτρη Ιωάννου- μπάσσο, 
 τραγούδι, Μπάμπη Τσιλιβίγκο-σαξόφωνο, 
 Ορέστη Βαβίτσα-πλήκτρα και Πέτρο Δακτ
 λίδη-ντραμς.\nΣε αυτό το Live θα έχετε τη
  ευκαιρία να ακούσετε δικές τους συνθ
 σεις από το καινούριο CD Delayed Delivery καθώ
  και αρκετές διασκευές γνωστών καλλιτ
 εχνών.\n\nFor more information visit https://blues.gr/events/blue
 s-cargo-loose-rag-live
DTSTART;TZID=Europe/Athens:20101127T230000
DTEND;TZID=Europe/Athens:20101128T030000
CATEGORIES:blues, gig
LOCATION:ΕΞΑΡΧΕΙΑ ΑΘΗΝΑ
WEBSITE:
URL:
CONTACT:THΛ   210  3606460
ORGANIZER;CN="Dimitris Ioannou":https://blues.gr/profile/DimitrisIoann
 ou
ATTACH;FMTTYPE="image/jpeg":http://storage.ning.com/topology/rest/1.0/
 file/get/2252945361?profile=original
ATTENDEE;ROLE=REQ-PARTICIPANT;PARTSTAT=ACCEPTED;RSVP=TRUE;CN=Audiokost
 as:https://blues.gr/profile/Audiokostas
ATTENDEE;ROLE=REQ-PARTICIPANT;PARTSTAT=ACCEPTED;RSVP=TRUE;CN="Antonis 
 Kanaris":https://blues.gr/profile/AntonisKanaris
ATTENDEE;ROLE=REQ-PARTICIPANT;PARTSTAT=ACCEPTED;RSVP=TRUE;CN="Dimitris
  Ioannou":https://blues.gr/profile/DimitrisIoannou
ATTENDEE;ROLE=REQ-PARTICIPANT;PARTSTAT=TENTATIVE;RSVP=TRUE;CN="JOHN AN
 GELATOS-Red Rooster Prod.":https://blues.gr/profile/JohnAngelatos
END:VEVENT
END:VCALENDAR
