BEGIN:VCALENDAR
PRODID:NingEventWidget-v1
VERSION:2.0
METHOD:PUBLISH
BEGIN:VTIMEZONE
TZID:Europe/Athens
X-LIC-LOCATION:Europe/Athens
BEGIN:DAYLIGHT
TZOFFSETFROM:+0200
TZOFFSETTO:+0300
TZNAME:EEST
DTSTART:19700329T030000
RRULE:FREQ=YEARLY;BYMONTH=3;BYDAY=-1SU
END:DAYLIGHT
BEGIN:STANDARD
TZOFFSETFROM:+0300
TZOFFSETTO:+0200
TZNAME:EET
DTSTART:19701025T040000
RRULE:FREQ=YEARLY;BYMONTH=10;BYDAY=-1SU
END:STANDARD
END:VTIMEZONE
BEGIN:VEVENT
UID:1982923:Event:101892
DTSTAMP:20260420T123639Z
SUMMARY:Blues Cargo +  Loukas Sideras Trio Live at ARCHITEKTONIKI
DESCRIPTION:Η ζωντανή ιστορία της ROCK στο LAZY!
  O Λουκάς Σιδεράς (APHRODITE’S CHILD, YPSILON, DIESEL 
 .α.) παρουσιάζει τη νέα του δισκογραφι
 ή δουλειά “BREAK” καθώς και κλασικές ROCK
  διασκευές με ένα POWER τρίο που τις ερμη
 εύει με μοναδικό τρόπο! Το παιδί της Α
 ροδίτης δεν θα μπορούσε να μην είναι θ
 εϊκό!\nΛουκάς Σιδεράς: ντραμς-φωνή, Σίμ
 ς Κοκαβέσης: κιθάρα-φωνή, Νίκος Γιαννά
 τος: μπάσο\n\nFor more information visit https://blues.gr/even
 ts/blues-cargo-loukas-sideras
DTSTART;TZID=Europe/Athens:20110428T223000
DTEND;TZID=Europe/Athens:20110429T020000
CATEGORIES:blues, and, rock, to, the, bone
LOCATION:”ΑΡΧΙΤΕΚΤΟΝΙΚΗ”
WEBSITE:
URL:
CONTACT:210  3420842, 9014428 & 6978 185871
ORGANIZER;CN="Dimitris Ioannou":https://blues.gr/profile/DimitrisIoann
 ou
ATTACH;FMTTYPE="image/jpeg":http://storage.ning.com/topology/rest/1.0/
 file/get/2252950847?profile=original
ATTENDEE;ROLE=REQ-PARTICIPANT;PARTSTAT=ACCEPTED;RSVP=TRUE;CN="Dimitris
  Ioannou":https://blues.gr/profile/DimitrisIoannou
ATTENDEE;ROLE=REQ-PARTICIPANT;PARTSTAT=TENTATIVE;RSVP=TRUE;CN=MALIAS:h
 ttps://blues.gr/profile/MALIAS
END:VEVENT
END:VCALENDAR
