BEGIN:VCALENDAR
PRODID:NingEventWidget-v1
VERSION:2.0
METHOD:PUBLISH
BEGIN:VTIMEZONE
TZID:Europe/Athens
X-LIC-LOCATION:Europe/Athens
BEGIN:DAYLIGHT
TZOFFSETFROM:+0200
TZOFFSETTO:+0300
TZNAME:EEST
DTSTART:19700329T030000
RRULE:FREQ=YEARLY;BYMONTH=3;BYDAY=-1SU
END:DAYLIGHT
BEGIN:STANDARD
TZOFFSETFROM:+0300
TZOFFSETTO:+0200
TZNAME:EET
DTSTART:19701025T040000
RRULE:FREQ=YEARLY;BYMONTH=10;BYDAY=-1SU
END:STANDARD
END:VTIMEZONE
BEGIN:VEVENT
UID:1982923:Event:110736
DTSTAMP:20260420T004336Z
SUMMARY:BLUES CARGO + THE BOOGIE SINNERS LIVE AT \"AFTER DARK\"
DESCRIPTION:Μια μπάντα με 22 χρόνια ζωής, πολ
 τιμες εμπειρίες και απόλυτη αίσθηση τ
 ης φόρμας και του ήθους του μπλουζ, που
  δημιουργήθηκε στα 1987 από τέσσερις μου
 σικούς, ενωμένους με την κοινή τους αγ
 πη για τα μπλουζ, τους Σ. Ζαφειρίου, Δ.Ι
 ωάννου, Σ. Ζούζουλα και Σ. Γαβριηλίδη.Σ
 ην μακρόχρονη πορεία τους έχουν συνοδ
 εύσει μουσικούς σαν τον Guitar Shorty, U.P Wilson,
  Louisiana Red, Lurrie Bell, Big Time Sarah, Eddie C. Campbell, Lefty 
 Dizz, Angela Brown, Lovie Lee, Byther Smith, Jean Caroll, Maxine Howar
 d, Blind Mississippi Morris, Sweet Betty, Jimmy Morello , Nellie Tiger
  Travis , Jolly Jumper and Big Moe.\nH τωρινή σύνθεσή τ
 υς περιλαμβάνει τους Στέλιο Ζαφειρίο
  - κιθάρα, Δημήτρη Ιωάννου- μπάσσο, τρα
 ούδι, Μπάμπη Τσιλιβίγκο-σαξόφωνο, Ορέ
 τη Βαβίτσα-πλήκτρα και Πέτρο Δακτυλίδ
 η-ντραμς.\nΤη βραδυά θα ανοίξουν οι Boogie 
 Sinners.\n \n\nFor more information visit https://blues.gr/events/blu
 es-cargo-the-boogie-sinners-live-at-after-dark
DTSTART;TZID=Europe/Athens:20111015T000000
DTEND;TZID=Europe/Athens:20111015T235900
CATEGORIES:gig
LOCATION:AFTER DARK
WEBSITE:http://www.afterdark.gr
URL:http://www.afterdark.gr
CONTACT:2103606460
ORGANIZER;CN="Theo and The Boogie Sinners":https://blues.gr/profile/Al
 exiouTheodoros
ATTACH;FMTTYPE="image/jpeg":http://storage.ning.com/topology/rest/1.0/
 file/get/2252955063?profile=original
ATTENDEE;ROLE=REQ-PARTICIPANT;PARTSTAT=ACCEPTED;RSVP=TRUE;CN="George \
 "Whiskey\" Stefanakis":https://blues.gr/profile/GeorgeStefanakis
ATTENDEE;ROLE=REQ-PARTICIPANT;PARTSTAT=ACCEPTED;RSVP=TRUE;CN="Dimitris
  Ioannou":https://blues.gr/profile/DimitrisIoannou
ATTENDEE;ROLE=REQ-PARTICIPANT;PARTSTAT=ACCEPTED;RSVP=TRUE;CN="Theo and
  The Boogie Sinners":https://blues.gr/profile/AlexiouTheodoros
END:VEVENT
END:VCALENDAR
