BEGIN:VCALENDAR
PRODID:NingEventWidget-v1
VERSION:2.0
METHOD:PUBLISH
BEGIN:VTIMEZONE
TZID:Europe/Athens
X-LIC-LOCATION:Europe/Athens
BEGIN:DAYLIGHT
TZOFFSETFROM:+0200
TZOFFSETTO:+0300
TZNAME:EEST
DTSTART:19700329T030000
RRULE:FREQ=YEARLY;BYMONTH=3;BYDAY=-1SU
END:DAYLIGHT
BEGIN:STANDARD
TZOFFSETFROM:+0300
TZOFFSETTO:+0200
TZNAME:EET
DTSTART:19701025T040000
RRULE:FREQ=YEARLY;BYMONTH=10;BYDAY=-1SU
END:STANDARD
END:VTIMEZONE
BEGIN:VEVENT
UID:1982923:Event:248755
DTSTAMP:20260422T135908Z
SUMMARY:ΣΙΜΟΣ ΚΟΚΑΒΕΣΗΣ & BLUES Co. / ROADSON
DESCRIPTION:Πέμπτη 3/11\nΣΙΜΟΣ ΚΟΚΑΒΕΣΗΣ & BLUES C
 o. / ROADSON\nΣίμος Κοκαβέσης: κιθάρα-φωνή, Μ
 άνος Δελώτης: μπάσο, Κυριάκος Δαρίβας: 
 ντραμς.\nΟ βιρτουόζος κιθαρίστας και η 
 blues \"εταιρεία\" του, (σταθερό act της Πέμπ
 της για 4η συνεχόμενη χρονιά...)  ΚΑΘΕ Ε
 ΔΟΜΑΔΑ επί σκηνής, με originals απ' το \"Wild Wo
 rld\" album του, υλικό απ' τον επερχόμενο δί
 κο του και blues-rock ύμνους απ' την διεθνή 
 σκηνή...! Τη βραδιά ανοίγουν οι ROADSON.\nΕί
 οδος ελεύθερη. Ελάχιστη κατανάλωση 5 ε
 υρώ.\nhttps://www.youtube.com/watch?v=Kq_LkX7y0a4\n\nFor more infor
 mation visit https://blues.gr/events/blues-co-roadson
DTSTART;TZID=Europe/Athens:20161103T223000
DTEND;TZID=Europe/Athens:20161104T020000
CATEGORIES:blues, "&", "blues."
LOCATION:LAZY CLUB
WEBSITE:http://www.lazy.gr
URL:http://www.lazy.gr
CONTACT:210 6895535
ORGANIZER;CN="Spiros Dramitinos":https://blues.gr/profile/SpirosDramit
 inos
ATTACH;FMTTYPE="image/jpeg":http://storage.ning.com/topology/rest/1.0/
 file/get/2253052257?profile=original
ATTENDEE;ROLE=REQ-PARTICIPANT;PARTSTAT=ACCEPTED;RSVP=TRUE;CN="Spiros D
 ramitinos":https://blues.gr/profile/SpirosDramitinos
END:VEVENT
END:VCALENDAR
