BEGIN:VCALENDAR
PRODID:NingEventWidget-v1
VERSION:2.0
METHOD:PUBLISH
BEGIN:VTIMEZONE
TZID:Europe/Athens
X-LIC-LOCATION:Europe/Athens
BEGIN:DAYLIGHT
TZOFFSETFROM:+0200
TZOFFSETTO:+0300
TZNAME:EEST
DTSTART:19700329T030000
RRULE:FREQ=YEARLY;BYMONTH=3;BYDAY=-1SU
END:DAYLIGHT
BEGIN:STANDARD
TZOFFSETFROM:+0300
TZOFFSETTO:+0200
TZNAME:EET
DTSTART:19701025T040000
RRULE:FREQ=YEARLY;BYMONTH=10;BYDAY=-1SU
END:STANDARD
END:VTIMEZONE
BEGIN:VEVENT
UID:1982923:Event:249882
DTSTAMP:20260422T140853Z
SUMMARY:ΣΙΜΟΣ ΚΟΚΑΒΕΣΗΣ & BLUES Co... Special guests: Α
 ντώνης Μιτζέλος και Μαρκέλλα Παναγιώτ
 ου
DESCRIPTION:Πέμπτη 24/11\nΣΙΜΟΣ ΚΟΚΑΒΕΣΗΣ & BLUES 
 Co.\nΣίμος Κοκαβέσης: κιθάρα-φωνή, Μάνος 
 Δελώτης: μπάσο, Κυριάκος Δαρίβας: ντρα
 ς.\nSpecial guests: Αντώνης Μιτζέλος και Μαρκ
 λλα Παναγιώτου\n Ο Simos Kokavesis και η \"ετα
 ρεία\" του, υποδέχονται επί σκηνής την 
 κορυφαία ροκ ερμηνεύτρια Μαρκέλλα Παν
 αγιώτου και τον πληθωρικό, \"Mr\" 10 χρυσο
  δίσκοι,  2.500(+) ζωντανές εμφανίσεις, μο
 υσικοσυνθέτη, κιθαρίστα, και τραγουδι
 τή Αντώνη Μιτζέλο !\nΕίσοδος ελεύθερη. 
 Ελάχιστη κατανάλωση 5 ευρώ.\nhttps://www.youtube
 .com/watch?v=PDtb2trIIA0\n \n\nFor more information visit https://blu
 es.gr/events/blues-co-special-guests-1
DTSTART;TZID=Europe/Athens:20161124T223000
DTEND;TZID=Europe/Athens:20161125T020000
CATEGORIES:blues, "&", "rock."
LOCATION:LAZY CLUB
WEBSITE:http://www.lazy.gr
URL:http://www.lazy.gr
CONTACT:210 6895535
ORGANIZER;CN="Spiros Dramitinos":https://blues.gr/profile/SpirosDramit
 inos
ATTACH;FMTTYPE="image/jpeg":http://storage.ning.com/topology/rest/1.0/
 file/get/2253050890?profile=original
ATTENDEE;ROLE=REQ-PARTICIPANT;PARTSTAT=ACCEPTED;RSVP=TRUE;CN="Spiros D
 ramitinos":https://blues.gr/profile/SpirosDramitinos
END:VEVENT
END:VCALENDAR
