BEGIN:VCALENDAR
PRODID:NingEventWidget-v1
VERSION:2.0
METHOD:PUBLISH
BEGIN:VTIMEZONE
TZID:Europe/Athens
X-LIC-LOCATION:Europe/Athens
BEGIN:DAYLIGHT
TZOFFSETFROM:+0200
TZOFFSETTO:+0300
TZNAME:EEST
DTSTART:19700329T030000
RRULE:FREQ=YEARLY;BYMONTH=3;BYDAY=-1SU
END:DAYLIGHT
BEGIN:STANDARD
TZOFFSETFROM:+0300
TZOFFSETTO:+0200
TZNAME:EET
DTSTART:19701025T040000
RRULE:FREQ=YEARLY;BYMONTH=10;BYDAY=-1SU
END:STANDARD
END:VTIMEZONE
BEGIN:VEVENT
UID:1982923:Event:48712
DTSTAMP:20260422T141054Z
SUMMARY:BLUES DJ'S PARTY  ΣΤΟ Ypogeio Boheme!
DESCRIPTION:BLUES DJ'S PARTY. ΜΙΑ ΒΡΑΔΥΑ ΓΕΜΑΤΗ BLUES ,
  ΑΠΟ ΤΗΝ ΑΝΕΞΑΝΤΛΗΤΗ ΔΙΣΚΟΘΗΚΗ ΤΩΝ ΦΑΝ
 ΑΤΙΚΩΝ ΕΡΑΣΤΩΝ ΤΩΝ BLUES - KAI ΣΕ ΡΟΛΟ DJ - ΗΛ
 ΙΑ \"PARANOID\" ΚΑΙ \"Down Home\" Nonda Vorloka.\n\nΣΤΟ Ypogei
 o Boheme!\n\nΕΙΣΟΔΟΣ ΕΛΕΥΘΕΡΗ, ΕΙΣΤΕ ΟΛΟΙ ΚΑ
 ΛΕΣΜΕΝΟΙ!!!\n\nΕΝΑΡΞΗ 9.30\n\nFor more information visit
  https://blues.gr/events/blues-djs-party-sto-ypogeio
DTSTART;TZID=Europe/Athens:20100412T000000
DTEND;TZID=Europe/Athens:20100412T235900
CATEGORIES:blues, "dj's", party
LOCATION:Ypogeio Boheme!
WEBSITE:
URL:
CONTACT:
ORGANIZER;CN="DOWN HOME NONDAS":https://blues.gr/profile/NONDAS
ATTACH;FMTTYPE="image/jpeg":http://storage.ning.com/topology/rest/1.0/
 file/get/2112315421?profile=original
ATTENDEE;ROLE=REQ-PARTICIPANT;PARTSTAT=ACCEPTED;RSVP=TRUE;CN="DOWN HOM
 E NONDAS":https://blues.gr/profile/NONDAS
END:VEVENT
END:VCALENDAR
