BEGIN:VCALENDAR
PRODID:NingEventWidget-v1
VERSION:2.0
METHOD:PUBLISH
BEGIN:VTIMEZONE
TZID:Europe/Athens
X-LIC-LOCATION:Europe/Athens
BEGIN:DAYLIGHT
TZOFFSETFROM:+0200
TZOFFSETTO:+0300
TZNAME:EEST
DTSTART:19700329T030000
RRULE:FREQ=YEARLY;BYMONTH=3;BYDAY=-1SU
END:DAYLIGHT
BEGIN:STANDARD
TZOFFSETFROM:+0300
TZOFFSETTO:+0200
TZNAME:EET
DTSTART:19701025T040000
RRULE:FREQ=YEARLY;BYMONTH=10;BYDAY=-1SU
END:STANDARD
END:VTIMEZONE
BEGIN:VEVENT
UID:1982923:Event:270629
DTSTAMP:20260423T134108Z
SUMMARY:Blues Festival 2018 - Season 4
DESCRIPTION:It's the time of the year we get together and celebrate th
 e Blues ! BLUES is the music of our SOUL and by out soul we live !  Th
 ree days for your ultimate blues satisfaction !!!  23 November :   BLU
 ES CARGO Blues Cargo THE JUMPIN' BONES The Jumpin' Bones THE BLUES VAD
 ERS The Blues Vaders\nΕίσοδος: 10 (περιλαμβάνει μ
 ύρα ή ποτήρι κρασί)  24 November :   BLUES WIRE BluesW
 ire SIXTEEN STRINGS Sixteen Strings HOT BARBEQUE Hot Barbeque\nΕίσ
 δος: 10 (περιλαμβάνει μπύρα ή ποτήρι κρ
 σί)  25 November :   BLUES N' SOUL SHAKERS BLUES N'SOUL SHAKERS DAD
 DY'S WORK BLUES BAND Daddy's Work Blues Band PROJECT BLUE Andrew Young
 \nΕίσοδος: 10 (περιλαμβάνει μπύρα ή ποτή
 ι κρασί)  ΠΡΟΣΟΧΗ : Οσοι απο εσας που θα
  προσέλθετε την Παρασκευή 23 ή/και Σάββ
 το 24 Νοεμβρίου στο Festival Θα μπορέσετε Μ
 Ε ΤΟ ΙΔΙΟ ΕΙΣΙΤΉΡΙΟ να παρακολουθήσετ
  και το live της Κυριακής 25 Νοεμβρίου (δε
 ν πληρώνεται δηλαδή είσοδο την τρίτη η
 μέρα του Festival) !!!\n\nFor more information visit https://bl
 ues.gr/events/blues-festival-2018-season-4
DTSTART;TZID=Europe/Athens:20181123T220000
DTEND;TZID=Europe/Athens:20181125T010000
CATEGORIES:blues, festival
LOCATION:The Crow Club
WEBSITE:https://goo.gl/maps/SUm3ZzzAen52
URL:https://goo.gl/maps/SUm3ZzzAen52
CONTACT:210778 9354
ORGANIZER:Sixteen Strings - Blues Festival
ATTACH;FMTTYPE="image/jpeg":http://storage.ning.com/topology/rest/1.0/
 file/get/134035162?profile=original
ATTENDEE;ROLE=REQ-PARTICIPANT;PARTSTAT=ACCEPTED;RSVP=TRUE;CN=VagTanPla
 n:https://blues.gr/profile/VagTanPlan
ATTENDEE;ROLE=REQ-PARTICIPANT;PARTSTAT=ACCEPTED;RSVP=TRUE;CN="Giannis 
 Pachidis":https://blues.gr/profile/ioannis
END:VEVENT
END:VCALENDAR
