BEGIN:VCALENDAR
PRODID:NingEventWidget-v1
VERSION:2.0
METHOD:PUBLISH
BEGIN:VTIMEZONE
TZID:Europe/Athens
X-LIC-LOCATION:Europe/Athens
BEGIN:DAYLIGHT
TZOFFSETFROM:+0200
TZOFFSETTO:+0300
TZNAME:EEST
DTSTART:19700329T030000
RRULE:FREQ=YEARLY;BYMONTH=3;BYDAY=-1SU
END:DAYLIGHT
BEGIN:STANDARD
TZOFFSETFROM:+0300
TZOFFSETTO:+0200
TZNAME:EET
DTSTART:19701025T040000
RRULE:FREQ=YEARLY;BYMONTH=10;BYDAY=-1SU
END:STANDARD
END:VTIMEZONE
BEGIN:VEVENT
UID:1982923:Event:20025
DTSTAMP:20260423T115633Z
SUMMARY:BLUES FINGER at AFTER DARK LIVE
DESCRIPTION:Οι “BLUES FINGER” θα παρελάσουν στο s
 tage του AFTER DARK με σημαία BLUES και καριόφίλ
 ια SOUL, ROCK και με πολλές Funky & Funny διαθέσε
 ς.\nΦουστανέλες και κουμπούρια προβλέ
 ονται !!\nAFTER DARK LIVE\n\nFor more information visit https://
 blues.gr/events/blues-finger-at-after-dark
DTSTART;TZID=Europe/Athens:20090324T230000
DTEND;TZID=Europe/Athens:20090325T000000
CATEGORIES:blues, soul, rock
LOCATION:AFTER DARK
WEBSITE:http://www.myspace.com/bluesfingerbandgr
URL:http://www.myspace.com/bluesfingerbandgr
CONTACT:ΤΗΛ 210 3606460
ORGANIZER;CN="BLUES FINGER BAND":https://blues.gr/profile/BLUESFINGERB
 AND
ATTACH;FMTTYPE="image/jpeg":http://storage.ning.com/topology/rest/1.0/
 file/get/2252936314?profile=original
ATTENDEE;ROLE=REQ-PARTICIPANT;PARTSTAT=ACCEPTED;RSVP=TRUE;CN="BLUES FI
 NGER BAND":https://blues.gr/profile/BLUESFINGERBAND
ATTENDEE;ROLE=REQ-PARTICIPANT;PARTSTAT=TENTATIVE;RSVP=TRUE;CN="JOHN AN
 GELATOS-Red Rooster Prod.":https://blues.gr/profile/JohnAngelatos
END:VEVENT
END:VCALENDAR
