BEGIN:VCALENDAR
PRODID:NingEventWidget-v1
VERSION:2.0
METHOD:PUBLISH
BEGIN:VTIMEZONE
TZID:Europe/Athens
X-LIC-LOCATION:Europe/Athens
BEGIN:DAYLIGHT
TZOFFSETFROM:+0200
TZOFFSETTO:+0300
TZNAME:EEST
DTSTART:19700329T030000
RRULE:FREQ=YEARLY;BYMONTH=3;BYDAY=-1SU
END:DAYLIGHT
BEGIN:STANDARD
TZOFFSETFROM:+0300
TZOFFSETTO:+0200
TZNAME:EET
DTSTART:19701025T040000
RRULE:FREQ=YEARLY;BYMONTH=10;BYDAY=-1SU
END:STANDARD
END:VTIMEZONE
BEGIN:VEVENT
UID:1982923:Event:98977
DTSTAMP:20260422T022310Z
SUMMARY:Blues Finger Live at ROOSTER’S Σαββάτο 2 Απριλί
 ου 2011.
DESCRIPTION:Blues Finger Live at ROOSTER’S Σαββάτο 2 Απρι
 λίου 2011.\nΟι “BLUES FINGER” έρχονται με κέφι
 α για ένα Live-Party στο νέο χώρο του ROOSTER’S.
 \nΟ Δάκτυλος του Blues με την μοναδική του
  ερμηνευτική και σκηνική παρουσία θα \"
 γκαζώσει\" με τον προσωπικό του 'Vintage ήχ
 ο σε μουσικές διαδρομές στον κόσμο του
  Blues και του Rock με Soul Funk αποσκευές!!Επιβ
 βαστείτε .....\nΕΙΣΟΔΟΣ ΕΛΕΥΘΕΡΗ !\nROOSTER’
 S ΠΛΑΤΕΙΑ ΑΓ.ΕΙΡΗΝΗΣ 4, ΑΘΗΝΑ (ΕΝΑΝΤΙ ΑΙ
 ΛΟΥ)  ΤΗΛ.210 3224410\n\n\nFor more information visit https://
 blues.gr/events/blues-finger-live-at-roosters
DTSTART;TZID=Europe/Athens:20110402T000000
DTEND;TZID=Europe/Athens:20110402T235900
CATEGORIES:live
LOCATION:ROOSTER’S
WEBSITE:http://www.bluesfinger.gr
URL:http://www.bluesfinger.gr
CONTACT:ΤΗΛ.210 3224410
ORGANIZER;CN="BLUES FINGER BAND":https://blues.gr/profile/BLUESFINGERB
 AND
ATTACH;FMTTYPE="image/jpeg":http://storage.ning.com/topology/rest/1.0/
 file/get/2252950190?profile=original
ATTENDEE;ROLE=REQ-PARTICIPANT;PARTSTAT=ACCEPTED;RSVP=TRUE;CN="BLUES FI
 NGER BAND":https://blues.gr/profile/BLUESFINGERBAND
ATTENDEE;ROLE=REQ-PARTICIPANT;PARTSTAT=TENTATIVE;RSVP=TRUE;CN="George 
 \"Whiskey\" Stefanakis":https://blues.gr/profile/GeorgeStefanakis
END:VEVENT
END:VCALENDAR
