BEGIN:VCALENDAR
PRODID:NingEventWidget-v1
VERSION:2.0
METHOD:PUBLISH
BEGIN:VTIMEZONE
TZID:Europe/Athens
X-LIC-LOCATION:Europe/Athens
BEGIN:DAYLIGHT
TZOFFSETFROM:+0200
TZOFFSETTO:+0300
TZNAME:EEST
DTSTART:19700329T030000
RRULE:FREQ=YEARLY;BYMONTH=3;BYDAY=-1SU
END:DAYLIGHT
BEGIN:STANDARD
TZOFFSETFROM:+0300
TZOFFSETTO:+0200
TZNAME:EET
DTSTART:19701025T040000
RRULE:FREQ=YEARLY;BYMONTH=10;BYDAY=-1SU
END:STANDARD
END:VTIMEZONE
BEGIN:VEVENT
UID:1982923:Event:82209
DTSTAMP:20260421T145253Z
SUMMARY:BLUES IN THE BASEMENT LIVE ΣΤΟ ΑΙΣΩΠΟΥ ΜΥΘΟΣ
DESCRIPTION:¨BLUES IN THE BASEMENT¨ :\nΗλεκτροακουστι
 ό τρίο στα blues του Δέλτα αλλά και του Σ
 κάγο. Τρεις φίλοι (\"Down Home\" Nondas Vorlokas στα
  φωνητικά και φυσαρμόνικα, Vangelis Maglaras κ
 θάρα, Antonis \"ROCK'' Bitros κιθάρα), κάνουν πρό
 ες και τζαμάρουν στο υπόγειο και τα live
  γίνονται στις όμορφες, ζεστές γωνιές 
 ης Αθήνας και του Πειραιά.\n LIVE ΣΤΟ ΑΙΣ
 ΠΟΥ ΜΥΘΟΣ ΕΝΑΡΞΗ 10.30 μ.μ\n\nFor more information vi
 sit https://blues.gr/events/blues-in-the-basement-live-sto-1
DTSTART;TZID=Europe/Athens:20110108T000000
DTEND;TZID=Europe/Athens:20110108T235900
CATEGORIES:blues, gig
LOCATION:ΑΙΣΩΠΟΥ ΜΥΘΟΣ
WEBSITE:
URL:
CONTACT:
ORGANIZER;CN="b p":https://blues.gr/profile/bp
ATTACH;FMTTYPE="image/jpeg":http://storage.ning.com/topology/rest/1.0/
 file/get/2252944822?profile=original
ATTENDEE;ROLE=REQ-PARTICIPANT;PARTSTAT=ACCEPTED;RSVP=TRUE;CN="b p":htt
 ps://blues.gr/profile/bp
END:VEVENT
END:VCALENDAR
