BEGIN:VCALENDAR
PRODID:NingEventWidget-v1
VERSION:2.0
METHOD:PUBLISH
BEGIN:VTIMEZONE
TZID:Europe/Athens
X-LIC-LOCATION:Europe/Athens
BEGIN:DAYLIGHT
TZOFFSETFROM:+0200
TZOFFSETTO:+0300
TZNAME:EEST
DTSTART:19700329T030000
RRULE:FREQ=YEARLY;BYMONTH=3;BYDAY=-1SU
END:DAYLIGHT
BEGIN:STANDARD
TZOFFSETFROM:+0300
TZOFFSETTO:+0200
TZNAME:EET
DTSTART:19701025T040000
RRULE:FREQ=YEARLY;BYMONTH=10;BYDAY=-1SU
END:STANDARD
END:VTIMEZONE
BEGIN:VEVENT
UID:1982923:Event:85824
DTSTAMP:20260419T181124Z
SUMMARY:¨BLUES IN THE BASEMENT¨ LIVE ΣΤΟ ΜΠΑΡΑΚΙ ΤΟΥ Β
 ΑΣΙΛΗ
DESCRIPTION:¨BLUES IN THE BASEMENT¨ :\nΗλεκτροακουστι
 ό τρίο στα blues του Δέλτα αλλά και του Σ
 κάγο. Τρεις φίλοι (\"Down Home\" Nondas Vorlokas στα
  φωνητικά και φυσαρμόνικα, Kostas Saridakis  κ
 ιθάρα, Antonis \"ROCK'' Bitros κιθάρα), κάνουν πρό
 βες και τζαμάρουν στο υπόγειο και τα liv
 e γίνονται στις όμορφες, ζεστές γωνιές 
 της Αθήνας και του Πειραιά.\nLIVE ΣΤΟ ΜΠΑ
 ΑΚΙ ΤΟΥ ΒΑΣΙΛΗ ΕΝΑΡΞΗ 10.00 μ.μ\n\nFor more infor
 mation visit https://blues.gr/events/blues-in-the-basement-live-sto-3
DTSTART;TZID=Europe/Athens:20110127T000000
DTEND;TZID=Europe/Athens:20110127T235900
CATEGORIES:blues, gig
LOCATION:ΣΤΟ ΜΠΑΡΑΚΙ ΤΟΥ ΒΑΣΙΛΗ
WEBSITE:
URL:
CONTACT:2103623625
ORGANIZER;CN="b p":https://blues.gr/profile/bp
ATTACH;FMTTYPE="image/jpeg":http://storage.ning.com/topology/rest/1.0/
 file/get/2252944822?profile=original
ATTENDEE;ROLE=REQ-PARTICIPANT;PARTSTAT=ACCEPTED;RSVP=TRUE;CN="Tsiamtsi
 kas Nikolaos":https://blues.gr/profile/TsiamtsikasNikolaos
ATTENDEE;ROLE=REQ-PARTICIPANT;PARTSTAT=ACCEPTED;RSVP=TRUE;CN="b p":htt
 ps://blues.gr/profile/bp
END:VEVENT
END:VCALENDAR
