BEGIN:VCALENDAR
PRODID:NingEventWidget-v1
VERSION:2.0
METHOD:PUBLISH
BEGIN:VTIMEZONE
TZID:Europe/Athens
X-LIC-LOCATION:Europe/Athens
BEGIN:DAYLIGHT
TZOFFSETFROM:+0200
TZOFFSETTO:+0300
TZNAME:EEST
DTSTART:19700329T030000
RRULE:FREQ=YEARLY;BYMONTH=3;BYDAY=-1SU
END:DAYLIGHT
BEGIN:STANDARD
TZOFFSETFROM:+0300
TZOFFSETTO:+0200
TZNAME:EET
DTSTART:19701025T040000
RRULE:FREQ=YEARLY;BYMONTH=10;BYDAY=-1SU
END:STANDARD
END:VTIMEZONE
BEGIN:VEVENT
UID:1982923:Event:89793
DTSTAMP:20260419T195243Z
SUMMARY:BLUES IN THE BASEMENT LIVE ΣΤΟ EL VIAJE BAR!
DESCRIPTION:¨BLUES IN THE BASEMENT¨ :\nΗλεκτροακουστι
 ό τρίο στα blues του Δέλτα αλλά και του Σ
 κάγο. Τρεις φίλοι (\"Down Home\" Nondas Vorlokas στα
  φωνητικά και φυσαρμόνικα, Kostas Saridakis κι
 θάρα, Antonis \"ROCK'' Bitros κιθάρα), κάνουν πρόβ
 ες και τζαμάρουν στο υπόγειο και τα live 
 γίνονται στις όμορφες, ζεστές γωνιές τ
 ης Αθήνας και του Πειραιά.\nLIVE ΣΤΟ EL VIAJE 
 BAR!  ΕΝΑΡΞΗ 10.00 μ.μ\n\nFor more information visit https://b
 lues.gr/events/blues-in-the-basement-live-sto-4
DTSTART;TZID=Europe/Athens:20110224T000000
DTEND;TZID=Europe/Athens:20110224T235900
CATEGORIES:blues, gig
LOCATION:EL VIAJE BAR
WEBSITE:
URL:
CONTACT:
ORGANIZER:B.I.T.B.
ATTACH;FMTTYPE="image/jpeg":http://storage.ning.com/topology/rest/1.0/
 file/get/2252944822?profile=original
ATTENDEE;ROLE=REQ-PARTICIPANT;PARTSTAT=ACCEPTED;RSVP=TRUE;CN="DOWN HOM
 E NONDAS":https://blues.gr/profile/NONDAS
END:VEVENT
END:VCALENDAR
