BEGIN:VCALENDAR
PRODID:NingEventWidget-v1
VERSION:2.0
METHOD:PUBLISH
BEGIN:VTIMEZONE
TZID:Europe/Athens
X-LIC-LOCATION:Europe/Athens
BEGIN:DAYLIGHT
TZOFFSETFROM:+0200
TZOFFSETTO:+0300
TZNAME:EEST
DTSTART:19700329T030000
RRULE:FREQ=YEARLY;BYMONTH=3;BYDAY=-1SU
END:DAYLIGHT
BEGIN:STANDARD
TZOFFSETFROM:+0300
TZOFFSETTO:+0200
TZNAME:EET
DTSTART:19701025T040000
RRULE:FREQ=YEARLY;BYMONTH=10;BYDAY=-1SU
END:STANDARD
END:VTIMEZONE
BEGIN:VEVENT
UID:1982923:Event:90412
DTSTAMP:20260421T180459Z
SUMMARY:BLUES IN THE BASEMENT LIVE ΣΤΟ UNPLUGGED!
DESCRIPTION:¨BLUES IN THE BASEMENT¨ : Ηλεκτροακουστικ
 ό τρίο στα blues του Δέλτα αλλά και του Σι
 κάγο. Τρεις φίλοι (\"Down Home\" Nondas Vorlokas στα 
 φωνητικά και φυσαρμόνικα, Kostas Saridakis  κ
 θάρα, Antonis \"ROCK'' Bitros κιθάρα), κάνουν πρό
 ες και τζαμάρουν στο υπόγειο καιτα live 
 γίνονται στις όμορφες, ζεστές γωνιές τ
 ης Αθήνας και του Πειραιά.\nLIVE ΣΤΟ UNPLUGGED
 ! ΕΝΑΡΞΗ 10.30 μ.μ\n\nFor more information visit https://blues
 .gr/events/blues-in-the-basement-live-sto-6
DTSTART;TZID=Europe/Athens:20110212T000000
DTEND;TZID=Europe/Athens:20110212T235900
CATEGORIES:blues, gig
LOCATION:UNPLUGGED!
WEBSITE:
URL:
CONTACT:
ORGANIZER;CN="DOWN HOME NONDAS":https://blues.gr/profile/NONDAS
ATTACH;FMTTYPE="image/jpeg":http://storage.ning.com/topology/rest/1.0/
 file/get/2252944822?profile=original
ATTENDEE;ROLE=REQ-PARTICIPANT;PARTSTAT=ACCEPTED;RSVP=TRUE;CN="DOWN HOM
 E NONDAS":https://blues.gr/profile/NONDAS
END:VEVENT
END:VCALENDAR
