BEGIN:VCALENDAR
PRODID:NingEventWidget-v1
VERSION:2.0
METHOD:PUBLISH
BEGIN:VTIMEZONE
TZID:Europe/Athens
X-LIC-LOCATION:Europe/Athens
BEGIN:DAYLIGHT
TZOFFSETFROM:+0200
TZOFFSETTO:+0300
TZNAME:EEST
DTSTART:19700329T030000
RRULE:FREQ=YEARLY;BYMONTH=3;BYDAY=-1SU
END:DAYLIGHT
BEGIN:STANDARD
TZOFFSETFROM:+0300
TZOFFSETTO:+0200
TZNAME:EET
DTSTART:19701025T040000
RRULE:FREQ=YEARLY;BYMONTH=10;BYDAY=-1SU
END:STANDARD
END:VTIMEZONE
BEGIN:VEVENT
UID:1982923:Event:81796
DTSTAMP:20260421T222355Z
SUMMARY:BLUES IN THE BASEMENT
DESCRIPTION:¨BLUES IN THE BASEMENT¨ :\nΗλεκτροακουστι
 ό τρίο (δύο κιθάρες, φυσαρμόνικα-φωνή) 
 στα blues του Δέλτα αλλά και του Σικάγο. Τ
 ρεις φίλοι κάνουν πρόβες και τζαμάρου
  στο υπόγειο και τα live γίνονται στις ό
 ορφες, ζεστές γωνιές της Αθήνας και το
 υ Πειραιά.\nLIVE ΣΤΟ RED ROCK n' ROLL BAR!!\n\nΕΝΑΡΞΗ
  10.00 μ.μ\n\nFor more information visit https://blues.gr/events/blu
 es-in-the-basement
DTSTART;TZID=Europe/Athens:20101211T000000
DTEND;TZID=Europe/Athens:20101211T235900
CATEGORIES:blues, gig
LOCATION:RED ROCK n' ROLL BAR
WEBSITE:
URL:
CONTACT:
ORGANIZER;CN="b p":https://blues.gr/profile/bp
ATTACH;FMTTYPE="image/jpeg":http://storage.ning.com/topology/rest/1.0/
 file/get/2252944822?profile=original
ATTENDEE;ROLE=REQ-PARTICIPANT;PARTSTAT=ACCEPTED;RSVP=TRUE;CN="antonis 
 \"the rock\" bitros":https://blues.gr/profile/antonistherockbitros
ATTENDEE;ROLE=REQ-PARTICIPANT;PARTSTAT=ACCEPTED;RSVP=TRUE;CN="b p":htt
 ps://blues.gr/profile/bp
END:VEVENT
END:VCALENDAR
