BEGIN:VCALENDAR
PRODID:NingEventWidget-v1
VERSION:2.0
METHOD:PUBLISH
BEGIN:VTIMEZONE
TZID:Europe/Athens
X-LIC-LOCATION:Europe/Athens
BEGIN:DAYLIGHT
TZOFFSETFROM:+0200
TZOFFSETTO:+0300
TZNAME:EEST
DTSTART:19700329T030000
RRULE:FREQ=YEARLY;BYMONTH=3;BYDAY=-1SU
END:DAYLIGHT
BEGIN:STANDARD
TZOFFSETFROM:+0300
TZOFFSETTO:+0200
TZNAME:EET
DTSTART:19701025T040000
RRULE:FREQ=YEARLY;BYMONTH=10;BYDAY=-1SU
END:STANDARD
END:VTIMEZONE
BEGIN:VEVENT
UID:1982923:Event:257701
DTSTAMP:20260421T214533Z
SUMMARY:Blues'n Soul Shakers live at the ZOO
DESCRIPTION:Τέσσερις  μουσικοί συναντήθηκα
 ν σε ένα κοινό σημείο, και  δήλωσαν την
  ακαταμάχητη θέλησή τους να εκφραστού
  μουσικά μέσα από την Blues και την Soul μο
 σική. Από την πρώτη κιόλας στιγμή τα π
 άγματα άρχισαν να δονούνται. Έτσι την 
 άνοιξη του 2015 γεννήθηκαν οι BLUES N’SOUL SHAK
 ERS. Έχοντας γερές βάσεις στο Chicago Blues style
 , εξερευνούν την Soul και φλερτάρουν σοβ
 ρά με την Funk Blues μουσική.\nH βασική ιδέα 
 ξεκίνησε από τον Σπύρο Παρασκευόπουλο
  (φωνή, ρυθμική κιθάρα) ιδρυτικό μέλος 
 ων Blues Therapy, ένα γκρουπ που άφησε το στί
 γμα του, με μία σχεδόν εικοσαετή πορεί
  στην Blues σκηνή της Αθήνας και όχι μόνο
 .\nΜια εσωτερική ανάγκη τον οδήγησε να 
 άει παραπέρα και να συναντήσει τον Δη
 ήτρη Ιωάννου (τύμπανα), ιδρυτικό μέλος
  των Blues Cargo, ίσως την καλύτερη μακρόβια
   Blues μπάντα στην Ελλάδα. Ένας από τους 
 πιο αξιόλογους Blues τραγουδιστές και τα
 υτόχρονα μπασίστας της μπάντας. Στο νέ
 ο σχήμα των BLUES N’SOUL SHAKERS, ο  Δημήτρης δ
 άλεξε να ακολουθήσει το όνειρό του, το
  μοναχικό και δύσκολο μονοπάτι των κρο
 υστών που τόσο αγαπά.\nΟ Δημήτρης Αντων
 ακάκης (μπάσο) ανήκει στους  έμπειρους
  μουσικούς της ελληνικής μουσικής σκη
 ής και στους BLUES N’SOUL SHAKERS ανακάλυψε νέ
 α μονοπάτια που θέλει να εξερευνήσει κ
 αι να κατακτήσει.\nΟ σοβαρά υποσχόμενο
  Τάκης Φακούδης (σόλο  κιθάρα και φωνή
 ), έχοντας εμπειρίες από διάφορα σχήμα
 α με τελευταίο αυτό των White Peppers και με 
 μεγάλο μουσικό εύρος από το Blues την Classi
 c Rock και την R&B, φροντίζει σολιστικά με 
 εγάλο πάθος και όχι μόνο τους BLUES N’SOUL 
 SHAKERS.\nΟι BLUES N’SOUL SHAKERS έχουν βάλει ένα σ
 όχο, να αφήσουν ένα σοβαρό στίγμα στην
  ελληνική Blues μουσική σκηνή και δεσμεύ
 νται για αυτό.\nBLUES N’SOUL SHAKERS\n\nΣπύρος Π
 ρασκευόπουλος  (ρυθμική κιθάρα και φω
 νή),\nΔημήτρης Ιωάννου (τύμπανα),\nΤάκης 
 Φακούδης (σόλο κιθάρα και φωνή),\nΔημήτ
 ης Αντωνακάκης (μπάσο).\nSpecial Guest Νίκος 
 κιαδόπουλος Φυσαρμόνικα.\n\nhttps://www.faceboo
 k.com/BLUES-NSOUL-SHAKERS-387682228103362/\n\nFor more information vis
 it https://blues.gr/events/blues-n-soul-shakers-live-at-the-zoo
DTSTART;TZID=Europe/Athens:20170618T220000
DTEND;TZID=Europe/Athens:20170619T001500
CATEGORIES:chicago, funky, soulful, high, energy, blues
LOCATION:The Zoo
WEBSITE:https://www.facebook.com/thezoopub/
URL:https://www.facebook.com/thezoopub/
CONTACT:21 0674 5375
ORGANIZER;CN="Dimitris Ioannou":https://blues.gr/profile/DimitrisIoann
 ou
ATTACH;FMTTYPE="image/jpeg":http://storage.ning.com/topology/rest/1.0/
 file/get/2253055522?profile=original
ATTENDEE;ROLE=REQ-PARTICIPANT;PARTSTAT=ACCEPTED;RSVP=TRUE;CN="Dimitris
  Ioannou":https://blues.gr/profile/DimitrisIoannou
END:VEVENT
END:VCALENDAR
