BEGIN:VCALENDAR
PRODID:NingEventWidget-v1
VERSION:2.0
METHOD:PUBLISH
BEGIN:VTIMEZONE
TZID:Europe/Athens
X-LIC-LOCATION:Europe/Athens
BEGIN:DAYLIGHT
TZOFFSETFROM:+0200
TZOFFSETTO:+0300
TZNAME:EEST
DTSTART:19700329T030000
RRULE:FREQ=YEARLY;BYMONTH=3;BYDAY=-1SU
END:DAYLIGHT
BEGIN:STANDARD
TZOFFSETFROM:+0300
TZOFFSETTO:+0200
TZNAME:EET
DTSTART:19701025T040000
RRULE:FREQ=YEARLY;BYMONTH=10;BYDAY=-1SU
END:STANDARD
END:VTIMEZONE
BEGIN:VEVENT
UID:1982923:Event:257048
DTSTAMP:20260421T213253Z
SUMMARY:Blues'n Soul Shakers
DESCRIPTION:Τέσσερις μουσικοί συναντήθηκαν
  σε ένα κοινό σημείο, και δήλωσαν την α
 αταμάχητη θέλησή τους να εκφραστούν μ
 ουσικά μέσα από την Blues και την Soul μουσ
 κή. Από την πρώτη κιόλας στιγμή τα πρά
 ματα άρχισαν να δονούνται. Έτσι την άν
 οιξη του 2015 γεννήθηκαν οι BLUES N’SOUL SHAKERS.
  Έχοντας γερές βάσεις στο Chicago Blues style, ε
 ξερευνούν την Soul και φλερτάρουν σοβαρ
  με την Funk Blues μουσική.H βασική ιδέα ξεκ
 ίνησε από τον Σπύρο Παρασκευόπουλο (φω
 νή, ρυθμική κιθάρα) ιδρυτικό μέλος των 
 Blues Therapy, ένα γκρουπ που άφησε το στίγμα
  του, με μία σχεδόν εικοσαετή πορεία στ
 ην Blues σκηνή της Αθήνας και όχι μόνο. Μ
 α εσωτερική ανάγκη τον οδήγησε να πάε
  παραπέρα και να συναντήσει τον Δημήτ
 η Ιωάννου (τύμπανα), ιδρυτικό μέλος τω
  Blues Cargo, ίσως την καλύτερη μακρόβια Blues
  μπάντα στην Ελλάδα. Ένας από τους πιο 
 ξιόλογους Blues τραγουδιστές και ταυτόχ
 ρονα μπασίστας της μπάντας. Στο νέο σχ
 μα των BLUES N’SOUL SHAKERS, ο Δημήτρης διάλεξ
  να ακολουθήσει το όνειρό του, το μονα
 ικό και δύσκολο μονοπάτι των κρουστών
  που τόσο αγαπά. Ο Δημήτρης Αντωνακάκη
 ς (μπάσο) ανήκει στους έμπειρους μουσι
 ούς της ελληνικής μουσικής σκηνής και
  στους BLUES N’SOUL SHAKERS ανακάλυψε νέα μονο
 άτια που θέλει να εξερευνήσει και να κ
 ατακτήσει. Ο σοβαρά υποσχόμενος Τάκης
  Φακούδης (σόλο κιθάρα και φωνή), έχοντ
 ς εμπειρίες από διάφορα σχήματα με τε
 ευταίο αυτό των White Peppers και με μεγάλο 
 ουσικό εύρος από το Blues την Classic Rock και 
 την R&B, φροντίζει σολιστικά με μεγάλο π
 άθος και όχι μόνο τους BLUES N’SOUL SHAKERS. Οι
  BLUES N’SOUL SHAKERS έχουν βάλει ένα στόχο, να 
 αφήσουν ένα σοβαρό στίγμα στην ελληνι
 ή Blues μουσική σκηνή και δεσμεύονται γι
 α αυτό.BLUES N’SOUL SHAKERS• Σπύρος Παρασκευό
 ουλος (ρυθμική κιθάρα και φωνή),• Δημή
 τρης Ιωάννου (τύμπανα),• Τάκης Φακούδη
 ς (σόλο κιθάρα και φωνή),• Δημήτρης Αντ
 ωνακάκης (μπάσο).• Special Guest Νίκος Σκιαδ
 πουλος Φυσαρμόνικα.https://www.facebook.com/BLUES-NS
 OUL-SHAKERS-387682228103362/ΕΝΑΡΞΗ: 23:00ΕΙΣΟΔΟΣ: +4 ΕΥ
 ΡΩ ΣΤΟ ΠΡΩΤΟ ΠΟΤΟ.\n\nFor more information visit https:/
 /blues.gr/events/blues-n-soul-shakers
DTSTART;TZID=Europe/Athens:20170602T230000
DTEND;TZID=Europe/Athens:20170603T020000
CATEGORIES:chicago, funky, soulful, high, energy, blues
LOCATION:Route 32
WEBSITE:https://www.facebook.com/pg/Route32Rocknblues/about/?ref=page_
 internal
URL:https://www.facebook.com/pg/Route32Rocknblues/about/?ref=page_inte
 rnal
CONTACT:
ORGANIZER;CN="Dimitris Ioannou":https://blues.gr/profile/DimitrisIoann
 ou
ATTACH;FMTTYPE="image/jpeg":http://storage.ning.com/topology/rest/1.0/
 file/get/2253055697?profile=original
ATTENDEE;ROLE=REQ-PARTICIPANT;PARTSTAT=ACCEPTED;RSVP=TRUE;CN="Dimitris
  Ioannou":https://blues.gr/profile/DimitrisIoannou
END:VEVENT
END:VCALENDAR
