BEGIN:VCALENDAR
PRODID:NingEventWidget-v1
VERSION:2.0
METHOD:PUBLISH
BEGIN:VTIMEZONE
TZID:Europe/Athens
X-LIC-LOCATION:Europe/Athens
BEGIN:DAYLIGHT
TZOFFSETFROM:+0200
TZOFFSETTO:+0300
TZNAME:EEST
DTSTART:19700329T030000
RRULE:FREQ=YEARLY;BYMONTH=3;BYDAY=-1SU
END:DAYLIGHT
BEGIN:STANDARD
TZOFFSETFROM:+0300
TZOFFSETTO:+0200
TZNAME:EET
DTSTART:19701025T040000
RRULE:FREQ=YEARLY;BYMONTH=10;BYDAY=-1SU
END:STANDARD
END:VTIMEZONE
BEGIN:VEVENT
UID:1982923:Event:42486
DTSTAMP:20260422T110233Z
SUMMARY:BLUES NIGHT-O ONICIMOC- HELPING HAND FOR MINOR PRISONERS....
DESCRIPTION:MICHAEL DOTSON BLUES BAND..\nM.DOTSON GUITAR VOCALS-N.ΤΣ
 ΑΒΑΛΟΣ.DRUMS-Δ.ΙΩΑΝΝΟΥ.BASS-\n\nTHE GRAND FATHERS BLUES 
 BAND..\nΣΟΛΩΝ.ΔΕΙΜΕΖΗΣ VOCALS GUITAR-ΕΒΕΛΙΝΑ ΜΙ
 ΟΥΛΙ.VOCALS-ΙΑΚΩΒΟΣ ΓΚΕΛΙΑΣ DRUMS-ΣΠΥΡΟΣ ΣΑ
 ΚΕΛΑΡΙΟΥ ΒΑSS-ΝΙΚΟΣ ΣΙΑΣ.GUITAR..\n\nBLUES THERAPY 
 BAND..GUEST..ΧΡΗΣΤΟΣ ΠΟΛΥΔΩΡΟΣ HARP..\nANTΩΝΗΣ Π
 ΝΟΠΟΥΛΟΣ VOCALS GUITAR-ΣΠΥΡΟΣ.ΠΑΡΑΣΚΕΥΟΠΟΥ
 ΟΣ.RYTHM GUITAR VOCALS-ΦΩΤΗΣ ΣΚΑΡΜΟΥΤΣΟΣ BASS-ΓΙ
 ΡΓΟΣ ΔΕΒΕΤΖΙΔΗΣ DRUMS-\n\nFor more information visit ht
 tps://blues.gr/events/blues-nighto-onicimoc-helping
DTSTART;TZID=Europe/Athens:20100305T220000
DTEND;TZID=Europe/Athens:20100306T003000
CATEGORIES:live, blues, night
LOCATION:LAZY MUSIC CLUB CAFE
WEBSITE:
URL:
CONTACT:210-6895.535
ORGANIZER:ΠΑΝΟΠΟΥΛΟΣ ΑΝΤΩΝΗΣ-
ATTACH;FMTTYPE="image/jpeg":http://storage.ning.com/topology/rest/1.0/
 file/get/2252938959?profile=original
ATTENDEE;ROLE=REQ-PARTICIPANT;PARTSTAT=ACCEPTED;RSVP=TRUE;CN="Petros M
 atsakos":https://blues.gr/profile/PetrosMatsakos
ATTENDEE;ROLE=REQ-PARTICIPANT;PARTSTAT=ACCEPTED;RSVP=TRUE;CN=christros
 :https://blues.gr/profile/christros
ATTENDEE;ROLE=REQ-PARTICIPANT;PARTSTAT=ACCEPTED;RSVP=TRUE;CN=Lia:https
 ://blues.gr/profile/Lia
ATTENDEE;ROLE=REQ-PARTICIPANT;PARTSTAT=ACCEPTED;RSVP=TRUE;CN=nikos:htt
 ps://blues.gr/profile/nikos
ATTENDEE;ROLE=REQ-PARTICIPANT;PARTSTAT=ACCEPTED;RSVP=TRUE;CN="tony dol
 laro":https://blues.gr/profile/tonydollaro
ATTENDEE;ROLE=REQ-PARTICIPANT;PARTSTAT=TENTATIVE;RSVP=TRUE;CN="yvette 
 m jarvis":https://blues.gr/profile/yvettemjarvis
ATTENDEE;ROLE=REQ-PARTICIPANT;PARTSTAT=TENTATIVE;RSVP=TRUE;CN="Small B
 lues Trap":https://blues.gr/profile/SmallBluesTrap
ATTENDEE;ROLE=REQ-PARTICIPANT;PARTSTAT=TENTATIVE;RSVP=TRUE;CN=TUBESCRE
 AMERS:https://blues.gr/profile/TUBESCREAMERS
END:VEVENT
END:VCALENDAR
